{"text_format":"1","workbook":"xlsx","n_sheets":9,"sheets":["Ввод КР","Результаты КР","Диаграмма1_уровни уч.комп. ","Диаграмма2_задания","Диаграмма3_инд.рез.","Справляемость_КР","Ввод ГП","Диаграмма4_рез.ГП","Диаграмма5_УУД"],"not_rendered":{"charts":10,"images":0,"macros":0,"external_links":0,"defined_names":0,"comments":1,"pivot_tables":0},"unopened":[{"sheet":"Диаграмма1_уровни уч.комп. ","index":2,"reason":"not_a_worksheet"},{"sheet":"Диаграмма2_задания","index":3,"reason":"not_a_worksheet"},{"sheet":"Диаграмма3_инд.рез.","index":4,"reason":"not_a_worksheet"},{"sheet":"Диаграмма4_рез.ГП","index":7,"reason":"not_a_worksheet"},{"sheet":"Диаграмма5_УУД","index":8,"reason":"not_a_worksheet"}],"bounds":{"document_bytes":16777216,"sheet_cells":100000,"rows_first":2000,"rows_last":500,"rows_between":2000,"halvings":0,"cell_chars":16384,"cell_head_chars":4096},"cells_cut":0,"cells_raw":0,"read":"whole","date_system":"1900"}

{"sheet":"Ввод КР","index":0,"n_rows":49,"n_cols":27,"rows_kept":49,"cut":false,"hidden":false,"merged":[[6,8,6,9],[6,13,7,13],[6,16,7,16],[5,25,7,25],[6,4,7,4],[5,17,5,24],[6,19,6,20],[6,18,7,18],[6,14,6,15],[6,12,7,12],[6,10,7,10],[6,7,7,7],[6,6,7,6],[6,5,7,5],[4,0,8,0],[4,1,8,1],[4,2,4,25],[5,26,7,26],[6,23,6,24],[5,2,5,16],[6,3,7,3],[6,2,7,2],[6,17,7,17],[6,11,7,11],[3,19,3,21],[0,19,0,21],[1,0,1,17],[2,2,2,8],[2,14,2,18],[2,19,2,21]]}
[null,null,null,null,null,null,null,null,null,null,null,null,null,null,null,null,null,null,null,"Таблица 1"]
["Ввод результатов выполнения заданий комплексной письменной работы"]
[null,"Наименование ОУ","МОУ Кубринская СОШ",null,null,null,null,null,null,null,"Класс",2,null,null,"Дата проведения",null,null,null,null,"22.04.2014"]
[null,null,null,null,null,null,null,null,null,null,null,null,null,null,null,null,null,null,null,"ДД.ММ.ГГГГ"]
["№  по журналу","№ варианта","Номер задания\n(№ задания, максимальный балл за задание)"]
[null,null,"Базовый уровень",null,null,null,null,null,null,null,null,null,null,null,null,null,null,"Повышенный уровень",null,null,null,null,null,null,null,"спис.",19]
[null,null,1,2,3,4,5,6,7,null,8,9,10,11,12,null,13,14,15,16,null,17,null,18]
[null,null,null,null,null,null,null,null,"7а","7б",null,null,null,null,"12а","12б",null,null,null,"16а","16б","17а","17б","18а","18б"]
[null,null,1,1,1,1,1,1,1,1,1,1,1,1,2,1,1,1,1,1,1,1,2,1,1,1,1]
[1,1,1,1,1,1,1,1,1,1,1,1,1,1,2,1,1,1,1,1,1,1,2,0,0,1,1]
[2,1,1,1,1,1,1,1,1,1,1,1,0,1,1,0,1,0,1,0,1,1,0,0,0,0,0]
[3,1,1,1,1,1,1,0,1,1,1,1,0,1,2,1,1,1,1,1,1,0,1,1,0,1,1]
[4,2,0,1,1,1,1,1,1,1,1,1,1,0,2,1,1,1,1,0,1,1,0,0,0,0,1]
[5,1,1,1,1,1,1,1,1,0,1,1,0,1,1,0,1,0,1,0,1,0,1,0,0,0,1]
[6,null,0,0,0,0,0,0,0,0,0,0,0,0,0,0,0,0,0,0,0,0,0,0,0,0,0]
[7,2,1,1,1,1,1,0,1,1,1,1,1,1,2,1,1,1,1,1,1,0,2,1,0,1,1]
[8,1,1,1,1,1,1,1,1,1,1,1,0,1,2,1,1,1,0,1,1,1,2,0,0,1,1]
[9,2,1,1,1,1,1,1,1,1,1,1,1,1,2,1,1,1,1,1,1,1,1,0,0,1,1]
[10,2,1,1,1,1,1,1,1,1,1,1,1,1,2,1,1,1,1,1,1,1,2,0,0,1,1]
[11,2,1,1,1,1,1,1,1,1,1,1,0,1,1,0,1,0,1,1,1,1,1,0,0,0,1]
[12,1,1,1,1,1,1,1,1,1,1,1,1,1,2,1,1,1,1,1,1,0,0,0,0,1,1]
[13]
[14]
[15]
[16]
[17]
[18]
[19]
[20]
[21]
[22]
[23]
[24]
[25]
[26]
[27]
[28]
[29]
[30]
[31]
[32]
[33]
[34]
[35]
[36]
[37]
[38]
[39]
[40]

{"sheet":"Результаты КР","index":1,"n_rows":46,"n_cols":14,"rows_kept":46,"cut":false,"hidden":false,"merged":[[3,0,5,0],[3,1,5,1],[3,5,5,5],[1,0,1,9],[3,9,5,9],[4,2,5,2],[4,3,5,3],[4,4,5,4],[3,6,4,8]]}
[null,null,null,null,null,null,null,null,null,"Таблица 2"]
["Результаты выполнения комплексной письменной работы"]
[]
["№ п/п","№ варианта","Сумма баллов за задания БАЗОВОГО уровня","Сумма баллов за задания ПОВЫШЕННОГО уровня","Общий\nбалл","Успешность выполнения работы, %","Границы, в которых находится ДМТ",null,null,"Уровень сформированности учебной компетентности",null,null,"низ","верх"]
[null,null,17,9,{"$f":"C5+D5","v":26},null,null,null,null,null,null,"граница базового",33.99,34]
[null,null,null,null,null,null,"ДМТ<34","34%<=ДМТ<74%","ДМТ>=74%",null,null,"граница повышенного",73.989999999999995,74]
[1,{"$f":"'Ввод КР'!B10","v":1},{"$f":"SUM('Ввод КР'!C10:Q10,'Ввод КР'!Z10)","v":17},{"$f":"SUM('Ввод КР'!R10:Y10)","v":7},{"$f":"C7+D7","v":24},{"$f":"E7/$E$5*100","v":92.307692307692307},{"$f":"IF(AND($B7>0,$F7<$M$5),1,0)","v":0},{"$f":"IF(AND($F7>=$N$5,$F7<$M$6),2,0)","v":0},{"$f":"IF($F7>=$N$6,3,0)","v":3},{"$f":"SUM(G7:I7)","v":3}]
[2,{"$f":"'Ввод КР'!B11","v":1},{"$f":"SUM('Ввод КР'!C11:Q11,'Ввод КР'!Z11)","v":13},{"$f":"SUM('Ввод КР'!R11:Y11)","v":3},{"$f":"C8+D8","v":16},{"$f":"E8/$E$5*100","v":61.53846153846154},{"$f":"IF(AND($B8>0,$F8<$M$5),1,0)","v":0},{"$f":"IF(AND($F8>=$N$5,$F8<$M$6),2,0)","v":2},{"$f":"IF($F8>=$N$6,3,0)","v":0},{"$f":"SUM(G8:I8)","v":2}]
[3,{"$f":"'Ввод КР'!B12","v":1},{"$f":"SUM('Ввод КР'!C12:Q12,'Ввод КР'!Z12)","v":15},{"$f":"SUM('Ввод КР'!R12:Y12)","v":6},21,80.769230769230774,0,0,3,3]
[4,{"$f":"'Ввод КР'!B13","v":2},{"$f":"SUM('Ввод КР'!C13:Q13,'Ввод КР'!Z13)","v":14},{"$f":"SUM('Ввод КР'!R13:Y13)","v":4},18,69.230769230769226,0,2,0,2]
[5,{"$f":"'Ввод КР'!B14","v":1},{"$f":"SUM('Ввод КР'!C14:Q14,'Ввод КР'!Z14)","v":12},{"$f":"SUM('Ввод КР'!R14:Y14)","v":3},15,57.692307692307686,0,2,0,2]
[6,{"$f":"'Ввод КР'!B15","v":0},{"$f":"SUM('Ввод КР'!C15:Q15,'Ввод КР'!Z15)","v":0},{"$f":"SUM('Ввод КР'!R15:Y15)","v":0},0,0,0,0,0,0]
[7,{"$f":"'Ввод КР'!B16","v":2},{"$f":"SUM('Ввод КР'!C16:Q16,'Ввод КР'!Z16)","v":16},{"$f":"SUM('Ввод КР'!R16:Y16)","v":7},23,88.461538461538453,0,0,3,3]
[8,{"$f":"'Ввод КР'!B17","v":1},{"$f":"SUM('Ввод КР'!C17:Q17,'Ввод КР'!Z17)","v":16},{"$f":"SUM('Ввод КР'!R17:Y17)","v":6},22,84.615384615384613,0,0,3,3]
[9,{"$f":"'Ввод КР'!B18","v":2},{"$f":"SUM('Ввод КР'!C18:Q18,'Ввод КР'!Z18)","v":17},{"$f":"SUM('Ввод КР'!R18:Y18)","v":6},23,88.461538461538453,0,0,3,3]
[10,{"$f":"'Ввод КР'!B19","v":2},{"$f":"SUM('Ввод КР'!C19:Q19,'Ввод КР'!Z19)","v":17},{"$f":"SUM('Ввод КР'!R19:Y19)","v":7},24,92.307692307692307,0,0,3,3]
[11,{"$f":"'Ввод КР'!B20","v":2},{"$f":"SUM('Ввод КР'!C20:Q20,'Ввод КР'!Z20)","v":13},{"$f":"SUM('Ввод КР'!R20:Y20)","v":5},18,69.230769230769226,0,2,0,2]
[12,{"$f":"'Ввод КР'!B21","v":1},{"$f":"SUM('Ввод КР'!C21:Q21,'Ввод КР'!Z21)","v":17},{"$f":"SUM('Ввод КР'!R21:Y21)","v":4},21,80.769230769230774,0,0,3,3]
[13,{"$f":"'Ввод КР'!B22","v":0},{"$f":"SUM('Ввод КР'!C22:Q22,'Ввод КР'!Z22)","v":0},{"$f":"SUM('Ввод КР'!R22:Y22)","v":0},0,0,0,0,0,0]
[14,{"$f":"'Ввод КР'!B23","v":0},{"$f":"SUM('Ввод КР'!C23:Q23,'Ввод КР'!Z23)","v":0},{"$f":"SUM('Ввод КР'!R23:Y23)","v":0},0,0,0,0,0,0]
[15,{"$f":"'Ввод КР'!B24","v":0},{"$f":"SUM('Ввод КР'!C24:Q24,'Ввод КР'!Z24)","v":0},{"$f":"SUM('Ввод КР'!R24:Y24)","v":0},0,0,0,0,0,0]
[16,{"$f":"'Ввод КР'!B25","v":0},{"$f":"SUM('Ввод КР'!C25:Q25,'Ввод КР'!Z25)","v":0},{"$f":"SUM('Ввод КР'!R25:Y25)","v":0},0,0,0,0,0,0]
[17,{"$f":"'Ввод КР'!B26","v":0},{"$f":"SUM('Ввод КР'!C26:Q26,'Ввод КР'!Z26)","v":0},{"$f":"SUM('Ввод КР'!R26:Y26)","v":0},0,0,0,0,0,0]
[18,{"$f":"'Ввод КР'!B27","v":0},{"$f":"SUM('Ввод КР'!C27:Q27,'Ввод КР'!Z27)","v":0},{"$f":"SUM('Ввод КР'!R27:Y27)","v":0},0,0,0,0,0,0]
[19,{"$f":"'Ввод КР'!B28","v":0},{"$f":"SUM('Ввод КР'!C28:Q28,'Ввод КР'!Z28)","v":0},{"$f":"SUM('Ввод КР'!R28:Y28)","v":0},0,0,0,0,0,0]
[20,{"$f":"'Ввод КР'!B29","v":0},{"$f":"SUM('Ввод КР'!C29:Q29,'Ввод КР'!Z29)","v":0},{"$f":"SUM('Ввод КР'!R29:Y29)","v":0},0,0,0,0,0,0]
[21,{"$f":"'Ввод КР'!B30","v":0},{"$f":"SUM('Ввод КР'!C30:Q30,'Ввод КР'!Z30)","v":0},{"$f":"SUM('Ввод КР'!R30:Y30)","v":0},0,0,0,0,0,0]
[22,{"$f":"'Ввод КР'!B31","v":0},{"$f":"SUM('Ввод КР'!C31:Q31,'Ввод КР'!Z31)","v":0},{"$f":"SUM('Ввод КР'!R31:Y31)","v":0},0,0,0,0,0,0]
[23,{"$f":"'Ввод КР'!B32","v":0},{"$f":"SUM('Ввод КР'!C32:Q32,'Ввод КР'!Z32)","v":0},{"$f":"SUM('Ввод КР'!R32:Y32)","v":0},0,0,0,0,0,0]
[24,{"$f":"'Ввод КР'!B33","v":0},{"$f":"SUM('Ввод КР'!C33:Q33,'Ввод КР'!Z33)","v":0},{"$f":"SUM('Ввод КР'!R33:Y33)","v":0},0,0,0,0,0,0]
[25,{"$f":"'Ввод КР'!B34","v":0},{"$f":"SUM('Ввод КР'!C34:Q34,'Ввод КР'!Z34)","v":0},{"$f":"SUM('Ввод КР'!R34:Y34)","v":0},0,0,0,0,0,0]
[26,{"$f":"'Ввод КР'!B35","v":0},{"$f":"SUM('Ввод КР'!C35:Q35,'Ввод КР'!Z35)","v":0},{"$f":"SUM('Ввод КР'!R35:Y35)","v":0},0,0,0,0,0,0]
[27,{"$f":"'Ввод КР'!B36","v":0},{"$f":"SUM('Ввод КР'!C36:Q36,'Ввод КР'!Z36)","v":0},{"$f":"SUM('Ввод КР'!R36:Y36)","v":0},0,0,0,0,0,0]
[28,{"$f":"'Ввод КР'!B37","v":0},{"$f":"SUM('Ввод КР'!C37:Q37,'Ввод КР'!Z37)","v":0},{"$f":"SUM('Ввод КР'!R37:Y37)","v":0},0,0,0,0,0,0]
[29,{"$f":"'Ввод КР'!B38","v":0},{"$f":"SUM('Ввод КР'!C38:Q38,'Ввод КР'!Z38)","v":0},{"$f":"SUM('Ввод КР'!R38:Y38)","v":0},0,0,0,0,0,0]
[30,{"$f":"'Ввод КР'!B39","v":0},{"$f":"SUM('Ввод КР'!C39:Q39,'Ввод КР'!Z39)","v":0},{"$f":"SUM('Ввод КР'!R39:Y39)","v":0},0,0,0,0,0,0]
[31,{"$f":"'Ввод КР'!B40","v":0},{"$f":"SUM('Ввод КР'!C40:Q40,'Ввод КР'!Z40)","v":0},{"$f":"SUM('Ввод КР'!R40:Y40)","v":0},0,0,0,0,0,0]
[32,{"$f":"'Ввод КР'!B41","v":0},{"$f":"SUM('Ввод КР'!C41:Q41,'Ввод КР'!Z41)","v":0},{"$f":"SUM('Ввод КР'!R41:Y41)","v":0},0,0,0,0,0,0]
[33,{"$f":"'Ввод КР'!B42","v":0},{"$f":"SUM('Ввод КР'!C42:Q42,'Ввод КР'!Z42)","v":0},{"$f":"SUM('Ввод КР'!R42:Y42)","v":0},0,0,0,0,0,0]
[34,{"$f":"'Ввод КР'!B43","v":0},{"$f":"SUM('Ввод КР'!C43:Q43,'Ввод КР'!Z43)","v":0},{"$f":"SUM('Ввод КР'!R43:Y43)","v":0},0,0,0,0,0,0]
[35,{"$f":"'Ввод КР'!B44","v":0},{"$f":"SUM('Ввод КР'!C44:Q44,'Ввод КР'!Z44)","v":0},{"$f":"SUM('Ввод КР'!R44:Y44)","v":0},0,0,0,0,0,0]
[36,{"$f":"'Ввод КР'!B45","v":0},{"$f":"SUM('Ввод КР'!C45:Q45,'Ввод КР'!Z45)","v":0},{"$f":"SUM('Ввод КР'!R45:Y45)","v":0},0,0,0,0,0,0]
[37,{"$f":"'Ввод КР'!B46","v":0},{"$f":"SUM('Ввод КР'!C46:Q46,'Ввод КР'!Z46)","v":0},{"$f":"SUM('Ввод КР'!R46:Y46)","v":0},0,0,0,0,0,0]
[38,{"$f":"'Ввод КР'!B47","v":0},{"$f":"SUM('Ввод КР'!C47:Q47,'Ввод КР'!Z47)","v":0},{"$f":"SUM('Ввод КР'!R47:Y47)","v":0},0,0,0,0,0,0]
[39,{"$f":"'Ввод КР'!B48","v":0},{"$f":"SUM('Ввод КР'!C48:Q48,'Ввод КР'!Z48)","v":0},{"$f":"SUM('Ввод КР'!R48:Y48)","v":0},0,0,0,0,0,0]
[40,{"$f":"'Ввод КР'!B49","v":0},{"$f":"SUM('Ввод КР'!C49:Q49,'Ввод КР'!Z49)","v":0},{"$f":"SUM('Ввод КР'!R49:Y49)","v":0},0,0,0,0,0,0]

{"sheet":"Справляемость_КР","index":5,"n_rows":50,"n_cols":46,"rows_kept":50,"cut":false,"hidden":true,"merged":[[47,30,47,45],[1,30,1,45],[0,27,0,29],[1,27,3,27],[1,28,3,28],[0,0,3,0],[0,1,3,1],[0,2,0,25],[1,2,1,16],[1,17,1,24],[1,29,3,29]]}
["№ п/п","Код участия","Номер задания\n(№ задания, максимальный балл за задание)",null,null,null,null,null,null,null,null,null,null,null,null,null,null,null,null,null,null,null,null,null,null,null,null,"Уровень сформированности учебной компетентности"]
[null,null,"Базовый уровень",null,null,null,null,null,null,null,null,null,null,null,null,null,null,"Повышенный уровень",null,null,null,null,null,null,null,null,null,"ниже базового (1)","базовый (2)","повышенный (3)","Номер УУД"]
[null,null,1,2,3,4,5,6,"7а","7б",8,9,10,11,"12а","12б",13,14,15,"16а","16б","17а","17б","18а","18б","списывание",19,null,null,null,1,2,3,4,5,6,7,8,9,10,11,12,13,14,15,16]
[null,null,1,1,1,1,1,1,1,1,1,1,1,1,2,1,1,1,1,1,1,1,2,1,1,1,1,null,null,null,2,3,2,3,2,5,2,1,3,7,1,6,3,4,5,5]
[1,{"$f":"IF('Ввод КР'!B10>0,1,0)","v":1},{"$f":"IF('Ввод КР'!C10=$C$4,1,0)","v":1},{"$f":"IF('Ввод КР'!D10=$D$4,1,0)","v":1},{"$f":"IF('Ввод КР'!E10=$E$4,1,0)","v":1},{"$f":"IF('Ввод КР'!F10=$F$4,1,0)","v":1},{"$f":"IF('Ввод КР'!G10=$G$4,1,0)","v":1},{"$f":"IF('Ввод КР'!H10=$H$4,1,0)","v":1},{"$f":"IF('Ввод КР'!I10=$I$4,1,0)","v":1},{"$f":"IF('Ввод КР'!J10=$J$4,1,0)","v":1},{"$f":"IF('Ввод КР'!K10=$K$4,1,0)","v":1},{"$f":"IF('Ввод КР'!L10=$L$4,1,0)","v":1},{"$f":"IF('Ввод КР'!M10=$M$4,1,0)","v":1},{"$f":"IF('Ввод КР'!N10=$N$4,1,0)","v":1},{"$f":"IF('Ввод КР'!O10=$O$4,1,0)","v":1},{"$f":"IF('Ввод КР'!P10=$P$4,1,0)","v":1},{"$f":"IF('Ввод КР'!Q10=$Q$4,1,0)","v":1},{"$f":"IF('Ввод КР'!R10=$R$4,1,0)","v":1},{"$f":"IF('Ввод КР'!S10=$S$4,1,0)","v":1},{"$f":"IF('Ввод КР'!T10=$T$4,1,0)","v":1},{"$f":"IF('Ввод КР'!U10=$U$4,1,0)","v":1},{"$f":"IF('Ввод КР'!V10=$V$4,1,0)","v":1},{"$f":"IF('Ввод КР'!W10=$W$4,1,0)","v":1},{"$f":"IF('Ввод КР'!X10=$X$4,1,0)","v":0},{"$f":"IF('Ввод КР'!Y10=$Y$4,1,0)","v":0},{"$f":"IF('Ввод КР'!Z10=$Z$4,1,0)","v":1},{"$f":"IF('Ввод КР'!AA10=$AA$4,1,0)","v":1},{"$f":"IF('Результаты КР'!$J7=1,1,0)","v":0},{"$f":"IF('Результаты КР'!$J7=2,1,0)","v":0},{"$f":"IF('Результаты КР'!$J7=3,1,0)","v":1}]
[2,{"$f":"IF('Ввод КР'!B11>0,1,0)","v":1},{"$f":"IF('Ввод КР'!C11=$C$4,1,0)","v":1},{"$f":"IF('Ввод КР'!D11=$D$4,1,0)","v":1},{"$f":"IF('Ввод КР'!E11=$E$4,1,0)","v":1},{"$f":"IF('Ввод КР'!F11=$F$4,1,0)","v":1},{"$f":"IF('Ввод КР'!G11=$G$4,1,0)","v":1},{"$f":"IF('Ввод КР'!H11=$H$4,1,0)","v":1},{"$f":"IF('Ввод КР'!I11=$I$4,1,0)","v":1},{"$f":"IF('Ввод КР'!J11=$J$4,1,0)","v":1},{"$f":"IF('Ввод КР'!K11=$K$4,1,0)","v":1},{"$f":"IF('Ввод КР'!L11=$L$4,1,0)","v":1},{"$f":"IF('Ввод КР'!M11=$M$4,1,0)","v":0},{"$f":"IF('Ввод КР'!N11=$N$4,1,0)","v":1},{"$f":"IF('Ввод КР'!O11=$O$4,1,0)","v":0},{"$f":"IF('Ввод КР'!P11=$P$4,1,0)","v":0},{"$f":"IF('Ввод КР'!Q11=$Q$4,1,0)","v":1},{"$f":"IF('Ввод КР'!R11=$R$4,1,0)","v":0},{"$f":"IF('Ввод КР'!S11=$S$4,1,0)","v":1},{"$f":"IF('Ввод КР'!T11=$T$4,1,0)","v":0},{"$f":"IF('Ввод КР'!U11=$U$4,1,0)","v":1},{"$f":"IF('Ввод КР'!V11=$V$4,1,0)","v":1},{"$f":"IF('Ввод КР'!W11=$W$4,1,0)","v":0},{"$f":"IF('Ввод КР'!X11=$X$4,1,0)","v":0},{"$f":"IF('Ввод КР'!Y11=$Y$4,1,0)","v":0},{"$f":"IF('Ввод КР'!Z11=$Z$4,1,0)","v":0},{"$f":"IF('Ввод КР'!AA11=$AA$4,1,0)","v":0},{"$f":"IF('Результаты КР'!$J8=1,1,0)","v":0},{"$f":"IF('Результаты КР'!$J8=2,1,0)","v":1},{"$f":"IF('Результаты КР'!$J8=3,1,0)","v":0}]
[3,{"$f":"IF('Ввод КР'!B12>0,1,0)","v":1},{"$f":"IF('Ввод КР'!C12=$C$4,1,0)","v":1},{"$f":"IF('Ввод КР'!D12=$D$4,1,0)","v":1},{"$f":"IF('Ввод КР'!E12=$E$4,1,0)","v":1},{"$f":"IF('Ввод КР'!F12=$F$4,1,0)","v":1},{"$f":"IF('Ввод КР'!G12=$G$4,1,0)","v":1},{"$f":"IF('Ввод КР'!H12=$H$4,1,0)","v":0},{"$f":"IF('Ввод КР'!I12=$I$4,1,0)","v":1},{"$f":"IF('Ввод КР'!J12=$J$4,1,0)","v":1},{"$f":"IF('Ввод КР'!K12=$K$4,1,0)","v":1},{"$f":"IF('Ввод КР'!L12=$L$4,1,0)","v":1},{"$f":"IF('Ввод КР'!M12=$M$4,1,0)","v":0},{"$f":"IF('Ввод КР'!N12=$N$4,1,0)","v":1},{"$f":"IF('Ввод КР'!O12=$O$4,1,0)","v":1},{"$f":"IF('Ввод КР'!P12=$P$4,1,0)","v":1},{"$f":"IF('Ввод КР'!Q12=$Q$4,1,0)","v":1},{"$f":"IF('Ввод КР'!R12=$R$4,1,0)","v":1},{"$f":"IF('Ввод КР'!S12=$S$4,1,0)","v":1},{"$f":"IF('Ввод КР'!T12=$T$4,1,0)","v":1},{"$f":"IF('Ввод КР'!U12=$U$4,1,0)","v":1},{"$f":"IF('Ввод КР'!V12=$V$4,1,0)","v":0},{"$f":"IF('Ввод КР'!W12=$W$4,1,0)","v":0},{"$f":"IF('Ввод КР'!X12=$X$4,1,0)","v":1},{"$f":"IF('Ввод КР'!Y12=$Y$4,1,0)","v":0},{"$f":"IF('Ввод КР'!Z12=$Z$4,1,0)","v":1},{"$f":"IF('Ввод КР'!AA12=$AA$4,1,0)","v":1},{"$f":"IF('Результаты КР'!$J9=1,1,0)","v":0},{"$f":"IF('Результаты КР'!$J9=2,1,0)","v":0},{"$f":"IF('Результаты КР'!$J9=3,1,0)","v":1}]
[4,{"$f":"IF('Ввод КР'!B13>0,1,0)","v":1},{"$f":"IF('Ввод КР'!C13=$C$4,1,0)","v":0},{"$f":"IF('Ввод КР'!D13=$D$4,1,0)","v":1},{"$f":"IF('Ввод КР'!E13=$E$4,1,0)","v":1},{"$f":"IF('Ввод КР'!F13=$F$4,1,0)","v":1},{"$f":"IF('Ввод КР'!G13=$G$4,1,0)","v":1},{"$f":"IF('Ввод КР'!H13=$H$4,1,0)","v":1},{"$f":"IF('Ввод КР'!I13=$I$4,1,0)","v":1},{"$f":"IF('Ввод КР'!J13=$J$4,1,0)","v":1},{"$f":"IF('Ввод КР'!K13=$K$4,1,0)","v":1},{"$f":"IF('Ввод КР'!L13=$L$4,1,0)","v":1},{"$f":"IF('Ввод КР'!M13=$M$4,1,0)","v":1},{"$f":"IF('Ввод КР'!N13=$N$4,1,0)","v":0},{"$f":"IF('Ввод КР'!O13=$O$4,1,0)","v":1},{"$f":"IF('Ввод КР'!P13=$P$4,1,0)","v":1},{"$f":"IF('Ввод КР'!Q13=$Q$4,1,0)","v":1},{"$f":"IF('Ввод КР'!R13=$R$4,1,0)","v":1},{"$f":"IF('Ввод КР'!S13=$S$4,1,0)","v":1},{"$f":"IF('Ввод КР'!T13=$T$4,1,0)","v":0},{"$f":"IF('Ввод КР'!U13=$U$4,1,0)","v":1},{"$f":"IF('Ввод КР'!V13=$V$4,1,0)","v":1},{"$f":"IF('Ввод КР'!W13=$W$4,1,0)","v":0},{"$f":"IF('Ввод КР'!X13=$X$4,1,0)","v":0},{"$f":"IF('Ввод КР'!Y13=$Y$4,1,0)","v":0},{"$f":"IF('Ввод КР'!Z13=$Z$4,1,0)","v":0},{"$f":"IF('Ввод КР'!AA13=$AA$4,1,0)","v":1},{"$f":"IF('Результаты КР'!$J10=1,1,0)","v":0},{"$f":"IF('Результаты КР'!$J10=2,1,0)","v":1},{"$f":"IF('Результаты КР'!$J10=3,1,0)","v":0}]
[5,{"$f":"IF('Ввод КР'!B14>0,1,0)","v":1},{"$f":"IF('Ввод КР'!C14=$C$4,1,0)","v":1},{"$f":"IF('Ввод КР'!D14=$D$4,1,0)","v":1},{"$f":"IF('Ввод КР'!E14=$E$4,1,0)","v":1},{"$f":"IF('Ввод КР'!F14=$F$4,1,0)","v":1},{"$f":"IF('Ввод КР'!G14=$G$4,1,0)","v":1},{"$f":"IF('Ввод КР'!H14=$H$4,1,0)","v":1},{"$f":"IF('Ввод КР'!I14=$I$4,1,0)","v":1},{"$f":"IF('Ввод КР'!J14=$J$4,1,0)","v":0},{"$f":"IF('Ввод КР'!K14=$K$4,1,0)","v":1},{"$f":"IF('Ввод КР'!L14=$L$4,1,0)","v":1},{"$f":"IF('Ввод КР'!M14=$M$4,1,0)","v":0},{"$f":"IF('Ввод КР'!N14=$N$4,1,0)","v":1},{"$f":"IF('Ввод КР'!O14=$O$4,1,0)","v":0},{"$f":"IF('Ввод КР'!P14=$P$4,1,0)","v":0},{"$f":"IF('Ввод КР'!Q14=$Q$4,1,0)","v":1},{"$f":"IF('Ввод КР'!R14=$R$4,1,0)","v":0},{"$f":"IF('Ввод КР'!S14=$S$4,1,0)","v":1},{"$f":"IF('Ввод КР'!T14=$T$4,1,0)","v":0},{"$f":"IF('Ввод КР'!U14=$U$4,1,0)","v":1},{"$f":"IF('Ввод КР'!V14=$V$4,1,0)","v":0},{"$f":"IF('Ввод КР'!W14=$W$4,1,0)","v":0},{"$f":"IF('Ввод КР'!X14=$X$4,1,0)","v":0},{"$f":"IF('Ввод КР'!Y14=$Y$4,1,0)","v":0},{"$f":"IF('Ввод КР'!Z14=$Z$4,1,0)","v":0},{"$f":"IF('Ввод КР'!AA14=$AA$4,1,0)","v":1},{"$f":"IF('Результаты КР'!$J11=1,1,0)","v":0},{"$f":"IF('Результаты КР'!$J11=2,1,0)","v":1},{"$f":"IF('Результаты КР'!$J11=3,1,0)","v":0}]
[6,{"$f":"IF('Ввод КР'!B15>0,1,0)","v":0},{"$f":"IF('Ввод КР'!C15=$C$4,1,0)","v":0},{"$f":"IF('Ввод КР'!D15=$D$4,1,0)","v":0},{"$f":"IF('Ввод КР'!E15=$E$4,1,0)","v":0},{"$f":"IF('Ввод КР'!F15=$F$4,1,0)","v":0},{"$f":"IF('Ввод КР'!G15=$G$4,1,0)","v":0},{"$f":"IF('Ввод КР'!H15=$H$4,1,0)","v":0},{"$f":"IF('Ввод КР'!I15=$I$4,1,0)","v":0},{"$f":"IF('Ввод КР'!J15=$J$4,1,0)","v":0},{"$f":"IF('Ввод КР'!K15=$K$4,1,0)","v":0},{"$f":"IF('Ввод КР'!L15=$L$4,1,0)","v":0},{"$f":"IF('Ввод КР'!M15=$M$4,1,0)","v":0},{"$f":"IF('Ввод КР'!N15=$N$4,1,0)","v":0},{"$f":"IF('Ввод КР'!O15=$O$4,1,0)","v":0},{"$f":"IF('Ввод КР'!P15=$P$4,1,0)","v":0},{"$f":"IF('Ввод КР'!Q15=$Q$4,1,0)","v":0},{"$f":"IF('Ввод КР'!R15=$R$4,1,0)","v":0},{"$f":"IF('Ввод КР'!S15=$S$4,1,0)","v":0},{"$f":"IF('Ввод КР'!T15=$T$4,1,0)","v":0},{"$f":"IF('Ввод КР'!U15=$U$4,1,0)","v":0},{"$f":"IF('Ввод КР'!V15=$V$4,1,0)","v":0},{"$f":"IF('Ввод КР'!W15=$W$4,1,0)","v":0},{"$f":"IF('Ввод КР'!X15=$X$4,1,0)","v":0},{"$f":"IF('Ввод КР'!Y15=$Y$4,1,0)","v":0},{"$f":"IF('Ввод КР'!Z15=$Z$4,1,0)","v":0},{"$f":"IF('Ввод КР'!AA15=$AA$4,1,0)","v":0},{"$f":"IF('Результаты КР'!$J12=1,1,0)","v":0},{"$f":"IF('Результаты КР'!$J12=2,1,0)","v":0},{"$f":"IF('Результаты КР'!$J12=3,1,0)","v":0}]
[7,{"$f":"IF('Ввод КР'!B16>0,1,0)","v":1},{"$f":"IF('Ввод КР'!C16=$C$4,1,0)","v":1},{"$f":"IF('Ввод КР'!D16=$D$4,1,0)","v":1},{"$f":"IF('Ввод КР'!E16=$E$4,1,0)","v":1},{"$f":"IF('Ввод КР'!F16=$F$4,1,0)","v":1},{"$f":"IF('Ввод КР'!G16=$G$4,1,0)","v":1},{"$f":"IF('Ввод КР'!H16=$H$4,1,0)","v":0},{"$f":"IF('Ввод КР'!I16=$I$4,1,0)","v":1},{"$f":"IF('Ввод КР'!J16=$J$4,1,0)","v":1},{"$f":"IF('Ввод КР'!K16=$K$4,1,0)","v":1},{"$f":"IF('Ввод КР'!L16=$L$4,1,0)","v":1},{"$f":"IF('Ввод КР'!M16=$M$4,1,0)","v":1},{"$f":"IF('Ввод КР'!N16=$N$4,1,0)","v":1},{"$f":"IF('Ввод КР'!O16=$O$4,1,0)","v":1},{"$f":"IF('Ввод КР'!P16=$P$4,1,0)","v":1},{"$f":"IF('Ввод КР'!Q16=$Q$4,1,0)","v":1},{"$f":"IF('Ввод КР'!R16=$R$4,1,0)","v":1},{"$f":"IF('Ввод КР'!S16=$S$4,1,0)","v":1},{"$f":"IF('Ввод КР'!T16=$T$4,1,0)","v":1},{"$f":"IF('Ввод КР'!U16=$U$4,1,0)","v":1},{"$f":"IF('Ввод КР'!V16=$V$4,1,0)","v":0},{"$f":"IF('Ввод КР'!W16=$W$4,1,0)","v":1},{"$f":"IF('Ввод КР'!X16=$X$4,1,0)","v":1},{"$f":"IF('Ввод КР'!Y16=$Y$4,1,0)","v":0},{"$f":"IF('Ввод КР'!Z16=$Z$4,1,0)","v":1},{"$f":"IF('Ввод КР'!AA16=$AA$4,1,0)","v":1},{"$f":"IF('Результаты КР'!$J13=1,1,0)","v":0},{"$f":"IF('Результаты КР'!$J13=2,1,0)","v":0},{"$f":"IF('Результаты КР'!$J13=3,1,0)","v":1}]
[8,{"$f":"IF('Ввод КР'!B17>0,1,0)","v":1},{"$f":"IF('Ввод КР'!C17=$C$4,1,0)","v":1},{"$f":"IF('Ввод КР'!D17=$D$4,1,0)","v":1},{"$f":"IF('Ввод КР'!E17=$E$4,1,0)","v":1},{"$f":"IF('Ввод КР'!F17=$F$4,1,0)","v":1},{"$f":"IF('Ввод КР'!G17=$G$4,1,0)","v":1},{"$f":"IF('Ввод КР'!H17=$H$4,1,0)","v":1},{"$f":"IF('Ввод КР'!I17=$I$4,1,0)","v":1},{"$f":"IF('Ввод КР'!J17=$J$4,1,0)","v":1},{"$f":"IF('Ввод КР'!K17=$K$4,1,0)","v":1},{"$f":"IF('Ввод КР'!L17=$L$4,1,0)","v":1},{"$f":"IF('Ввод КР'!M17=$M$4,1,0)","v":0},{"$f":"IF('Ввод КР'!N17=$N$4,1,0)","v":1},{"$f":"IF('Ввод КР'!O17=$O$4,1,0)","v":1},{"$f":"IF('Ввод КР'!P17=$P$4,1,0)","v":1},{"$f":"IF('Ввод КР'!Q17=$Q$4,1,0)","v":1},{"$f":"IF('Ввод КР'!R17=$R$4,1,0)","v":1},{"$f":"IF('Ввод КР'!S17=$S$4,1,0)","v":0},{"$f":"IF('Ввод КР'!T17=$T$4,1,0)","v":1},{"$f":"IF('Ввод КР'!U17=$U$4,1,0)","v":1},{"$f":"IF('Ввод КР'!V17=$V$4,1,0)","v":1},{"$f":"IF('Ввод КР'!W17=$W$4,1,0)","v":1},{"$f":"IF('Ввод КР'!X17=$X$4,1,0)","v":0},{"$f":"IF('Ввод КР'!Y17=$Y$4,1,0)","v":0},{"$f":"IF('Ввод КР'!Z17=$Z$4,1,0)","v":1},{"$f":"IF('Ввод КР'!AA17=$AA$4,1,0)","v":1},{"$f":"IF('Результаты КР'!$J14=1,1,0)","v":0},{"$f":"IF('Результаты КР'!$J14=2,1,0)","v":0},{"$f":"IF('Результаты КР'!$J14=3,1,0)","v":1}]
[9,{"$f":"IF('Ввод КР'!B18>0,1,0)","v":1},{"$f":"IF('Ввод КР'!C18=$C$4,1,0)","v":1},{"$f":"IF('Ввод КР'!D18=$D$4,1,0)","v":1},{"$f":"IF('Ввод КР'!E18=$E$4,1,0)","v":1},{"$f":"IF('Ввод КР'!F18=$F$4,1,0)","v":1},{"$f":"IF('Ввод КР'!G18=$G$4,1,0)","v":1},{"$f":"IF('Ввод КР'!H18=$H$4,1,0)","v":1},{"$f":"IF('Ввод КР'!I18=$I$4,1,0)","v":1},{"$f":"IF('Ввод КР'!J18=$J$4,1,0)","v":1},{"$f":"IF('Ввод КР'!K18=$K$4,1,0)","v":1},{"$f":"IF('Ввод КР'!L18=$L$4,1,0)","v":1},{"$f":"IF('Ввод КР'!M18=$M$4,1,0)","v":1},{"$f":"IF('Ввод КР'!N18=$N$4,1,0)","v":1},{"$f":"IF('Ввод КР'!O18=$O$4,1,0)","v":1},{"$f":"IF('Ввод КР'!P18=$P$4,1,0)","v":1},{"$f":"IF('Ввод КР'!Q18=$Q$4,1,0)","v":1},{"$f":"IF('Ввод КР'!R18=$R$4,1,0)","v":1},{"$f":"IF('Ввод КР'!S18=$S$4,1,0)","v":1},{"$f":"IF('Ввод КР'!T18=$T$4,1,0)","v":1},{"$f":"IF('Ввод КР'!U18=$U$4,1,0)","v":1},{"$f":"IF('Ввод КР'!V18=$V$4,1,0)","v":1},{"$f":"IF('Ввод КР'!W18=$W$4,1,0)","v":0},{"$f":"IF('Ввод КР'!X18=$X$4,1,0)","v":0},{"$f":"IF('Ввод КР'!Y18=$Y$4,1,0)","v":0},{"$f":"IF('Ввод КР'!Z18=$Z$4,1,0)","v":1},{"$f":"IF('Ввод КР'!AA18=$AA$4,1,0)","v":1},{"$f":"IF('Результаты КР'!$J15=1,1,0)","v":0},{"$f":"IF('Результаты КР'!$J15=2,1,0)","v":0},{"$f":"IF('Результаты КР'!$J15=3,1,0)","v":1}]
[10,{"$f":"IF('Ввод КР'!B19>0,1,0)","v":1},{"$f":"IF('Ввод КР'!C19=$C$4,1,0)","v":1},{"$f":"IF('Ввод КР'!D19=$D$4,1,0)","v":1},{"$f":"IF('Ввод КР'!E19=$E$4,1,0)","v":1},{"$f":"IF('Ввод КР'!F19=$F$4,1,0)","v":1},{"$f":"IF('Ввод КР'!G19=$G$4,1,0)","v":1},{"$f":"IF('Ввод КР'!H19=$H$4,1,0)","v":1},{"$f":"IF('Ввод КР'!I19=$I$4,1,0)","v":1},{"$f":"IF('Ввод КР'!J19=$J$4,1,0)","v":1},{"$f":"IF('Ввод КР'!K19=$K$4,1,0)","v":1},{"$f":"IF('Ввод КР'!L19=$L$4,1,0)","v":1},{"$f":"IF('Ввод КР'!M19=$M$4,1,0)","v":1},{"$f":"IF('Ввод КР'!N19=$N$4,1,0)","v":1},{"$f":"IF('Ввод КР'!O19=$O$4,1,0)","v":1},{"$f":"IF('Ввод КР'!P19=$P$4,1,0)","v":1},{"$f":"IF('Ввод КР'!Q19=$Q$4,1,0)","v":1},{"$f":"IF('Ввод КР'!R19=$R$4,1,0)","v":1},{"$f":"IF('Ввод КР'!S19=$S$4,1,0)","v":1},{"$f":"IF('Ввод КР'!T19=$T$4,1,0)","v":1},{"$f":"IF('Ввод КР'!U19=$U$4,1,0)","v":1},{"$f":"IF('Ввод КР'!V19=$V$4,1,0)","v":1},{"$f":"IF('Ввод КР'!W19=$W$4,1,0)","v":1},{"$f":"IF('Ввод КР'!X19=$X$4,1,0)","v":0},{"$f":"IF('Ввод КР'!Y19=$Y$4,1,0)","v":0},{"$f":"IF('Ввод КР'!Z19=$Z$4,1,0)","v":1},{"$f":"IF('Ввод КР'!AA19=$AA$4,1,0)","v":1},{"$f":"IF('Результаты КР'!$J16=1,1,0)","v":0},{"$f":"IF('Результаты КР'!$J16=2,1,0)","v":0},{"$f":"IF('Результаты КР'!$J16=3,1,0)","v":1}]
[11,{"$f":"IF('Ввод КР'!B20>0,1,0)","v":1},{"$f":"IF('Ввод КР'!C20=$C$4,1,0)","v":1},{"$f":"IF('Ввод КР'!D20=$D$4,1,0)","v":1},{"$f":"IF('Ввод КР'!E20=$E$4,1,0)","v":1},{"$f":"IF('Ввод КР'!F20=$F$4,1,0)","v":1},{"$f":"IF('Ввод КР'!G20=$G$4,1,0)","v":1},{"$f":"IF('Ввод КР'!H20=$H$4,1,0)","v":1},{"$f":"IF('Ввод КР'!I20=$I$4,1,0)","v":1},{"$f":"IF('Ввод КР'!J20=$J$4,1,0)","v":1},{"$f":"IF('Ввод КР'!K20=$K$4,1,0)","v":1},{"$f":"IF('Ввод КР'!L20=$L$4,1,0)","v":1},{"$f":"IF('Ввод КР'!M20=$M$4,1,0)","v":0},{"$f":"IF('Ввод КР'!N20=$N$4,1,0)","v":1},{"$f":"IF('Ввод КР'!O20=$O$4,1,0)","v":0},{"$f":"IF('Ввод КР'!P20=$P$4,1,0)","v":0},{"$f":"IF('Ввод КР'!Q20=$Q$4,1,0)","v":1},{"$f":"IF('Ввод КР'!R20=$R$4,1,0)","v":0},{"$f":"IF('Ввод КР'!S20=$S$4,1,0)","v":1},{"$f":"IF('Ввод КР'!T20=$T$4,1,0)","v":1},{"$f":"IF('Ввод КР'!U20=$U$4,1,0)","v":1},{"$f":"IF('Ввод КР'!V20=$V$4,1,0)","v":1},{"$f":"IF('Ввод КР'!W20=$W$4,1,0)","v":0},{"$f":"IF('Ввод КР'!X20=$X$4,1,0)","v":0},{"$f":"IF('Ввод КР'!Y20=$Y$4,1,0)","v":0},{"$f":"IF('Ввод КР'!Z20=$Z$4,1,0)","v":0},{"$f":"IF('Ввод КР'!AA20=$AA$4,1,0)","v":1},{"$f":"IF('Результаты КР'!$J17=1,1,0)","v":0},{"$f":"IF('Результаты КР'!$J17=2,1,0)","v":1},{"$f":"IF('Результаты КР'!$J17=3,1,0)","v":0}]
[12,{"$f":"IF('Ввод КР'!B21>0,1,0)","v":1},{"$f":"IF('Ввод КР'!C21=$C$4,1,0)","v":1},{"$f":"IF('Ввод КР'!D21=$D$4,1,0)","v":1},{"$f":"IF('Ввод КР'!E21=$E$4,1,0)","v":1},{"$f":"IF('Ввод КР'!F21=$F$4,1,0)","v":1},{"$f":"IF('Ввод КР'!G21=$G$4,1,0)","v":1},{"$f":"IF('Ввод КР'!H21=$H$4,1,0)","v":1},{"$f":"IF('Ввод КР'!I21=$I$4,1,0)","v":1},{"$f":"IF('Ввод КР'!J21=$J$4,1,0)","v":1},{"$f":"IF('Ввод КР'!K21=$K$4,1,0)","v":1},{"$f":"IF('Ввод КР'!L21=$L$4,1,0)","v":1},{"$f":"IF('Ввод КР'!M21=$M$4,1,0)","v":1},{"$f":"IF('Ввод КР'!N21=$N$4,1,0)","v":1},{"$f":"IF('Ввод КР'!O21=$O$4,1,0)","v":1},{"$f":"IF('Ввод КР'!P21=$P$4,1,0)","v":1},{"$f":"IF('Ввод КР'!Q21=$Q$4,1,0)","v":1},{"$f":"IF('Ввод КР'!R21=$R$4,1,0)","v":1},{"$f":"IF('Ввод КР'!S21=$S$4,1,0)","v":1},{"$f":"IF('Ввод КР'!T21=$T$4,1,0)","v":1},{"$f":"IF('Ввод КР'!U21=$U$4,1,0)","v":1},{"$f":"IF('Ввод КР'!V21=$V$4,1,0)","v":0},{"$f":"IF('Ввод КР'!W21=$W$4,1,0)","v":0},{"$f":"IF('Ввод КР'!X21=$X$4,1,0)","v":0},{"$f":"IF('Ввод КР'!Y21=$Y$4,1,0)","v":0},{"$f":"IF('Ввод КР'!Z21=$Z$4,1,0)","v":1},{"$f":"IF('Ввод КР'!AA21=$AA$4,1,0)","v":1},{"$f":"IF('Результаты КР'!$J18=1,1,0)","v":0},{"$f":"IF('Результаты КР'!$J18=2,1,0)","v":0},{"$f":"IF('Результаты КР'!$J18=3,1,0)","v":1}]
[13,{"$f":"IF('Ввод КР'!B22>0,1,0)","v":0},{"$f":"IF('Ввод КР'!C22=$C$4,1,0)","v":0},{"$f":"IF('Ввод КР'!D22=$D$4,1,0)","v":0},{"$f":"IF('Ввод КР'!E22=$E$4,1,0)","v":0},{"$f":"IF('Ввод КР'!F22=$F$4,1,0)","v":0},{"$f":"IF('Ввод КР'!G22=$G$4,1,0)","v":0},{"$f":"IF('Ввод КР'!H22=$H$4,1,0)","v":0},{"$f":"IF('Ввод КР'!I22=$I$4,1,0)","v":0},{"$f":"IF('Ввод КР'!J22=$J$4,1,0)","v":0},{"$f":"IF('Ввод КР'!K22=$K$4,1,0)","v":0},{"$f":"IF('Ввод КР'!L22=$L$4,1,0)","v":0},{"$f":"IF('Ввод КР'!M22=$M$4,1,0)","v":0},{"$f":"IF('Ввод КР'!N22=$N$4,1,0)","v":0},{"$f":"IF('Ввод КР'!O22=$O$4,1,0)","v":0},{"$f":"IF('Ввод КР'!P22=$P$4,1,0)","v":0},{"$f":"IF('Ввод КР'!Q22=$Q$4,1,0)","v":0},{"$f":"IF('Ввод КР'!R22=$R$4,1,0)","v":0},{"$f":"IF('Ввод КР'!S22=$S$4,1,0)","v":0},{"$f":"IF('Ввод КР'!T22=$T$4,1,0)","v":0},{"$f":"IF('Ввод КР'!U22=$U$4,1,0)","v":0},{"$f":"IF('Ввод КР'!V22=$V$4,1,0)","v":0},{"$f":"IF('Ввод КР'!W22=$W$4,1,0)","v":0},{"$f":"IF('Ввод КР'!X22=$X$4,1,0)","v":0},{"$f":"IF('Ввод КР'!Y22=$Y$4,1,0)","v":0},{"$f":"IF('Ввод КР'!Z22=$Z$4,1,0)","v":0},{"$f":"IF('Ввод КР'!AA22=$AA$4,1,0)","v":0},{"$f":"IF('Результаты КР'!$J19=1,1,0)","v":0},{"$f":"IF('Результаты КР'!$J19=2,1,0)","v":0},{"$f":"IF('Результаты КР'!$J19=3,1,0)","v":0}]
[14,{"$f":"IF('Ввод КР'!B23>0,1,0)","v":0},{"$f":"IF('Ввод КР'!C23=$C$4,1,0)","v":0},{"$f":"IF('Ввод КР'!D23=$D$4,1,0)","v":0},{"$f":"IF('Ввод КР'!E23=$E$4,1,0)","v":0},{"$f":"IF('Ввод КР'!F23=$F$4,1,0)","v":0},{"$f":"IF('Ввод КР'!G23=$G$4,1,0)","v":0},{"$f":"IF('Ввод КР'!H23=$H$4,1,0)","v":0},{"$f":"IF('Ввод КР'!I23=$I$4,1,0)","v":0},{"$f":"IF('Ввод КР'!J23=$J$4,1,0)","v":0},{"$f":"IF('Ввод КР'!K23=$K$4,1,0)","v":0},{"$f":"IF('Ввод КР'!L23=$L$4,1,0)","v":0},{"$f":"IF('Ввод КР'!M23=$M$4,1,0)","v":0},{"$f":"IF('Ввод КР'!N23=$N$4,1,0)","v":0},{"$f":"IF('Ввод КР'!O23=$O$4,1,0)","v":0},{"$f":"IF('Ввод КР'!P23=$P$4,1,0)","v":0},{"$f":"IF('Ввод КР'!Q23=$Q$4,1,0)","v":0},{"$f":"IF('Ввод КР'!R23=$R$4,1,0)","v":0},{"$f":"IF('Ввод КР'!S23=$S$4,1,0)","v":0},{"$f":"IF('Ввод КР'!T23=$T$4,1,0)","v":0},{"$f":"IF('Ввод КР'!U23=$U$4,1,0)","v":0},{"$f":"IF('Ввод КР'!V23=$V$4,1,0)","v":0},{"$f":"IF('Ввод КР'!W23=$W$4,1,0)","v":0},{"$f":"IF('Ввод КР'!X23=$X$4,1,0)","v":0},{"$f":"IF('Ввод КР'!Y23=$Y$4,1,0)","v":0},{"$f":"IF('Ввод КР'!Z23=$Z$4,1,0)","v":0},{"$f":"IF('Ввод КР'!AA23=$AA$4,1,0)","v":0},{"$f":"IF('Результаты КР'!$J20=1,1,0)","v":0},{"$f":"IF('Результаты КР'!$J20=2,1,0)","v":0},{"$f":"IF('Результаты КР'!$J20=3,1,0)","v":0}]
[15,{"$f":"IF('Ввод КР'!B24>0,1,0)","v":0},{"$f":"IF('Ввод КР'!C24=$C$4,1,0)","v":0},{"$f":"IF('Ввод КР'!D24=$D$4,1,0)","v":0},{"$f":"IF('Ввод КР'!E24=$E$4,1,0)","v":0},{"$f":"IF('Ввод КР'!F24=$F$4,1,0)","v":0},{"$f":"IF('Ввод КР'!G24=$G$4,1,0)","v":0},{"$f":"IF('Ввод КР'!H24=$H$4,1,0)","v":0},{"$f":"IF('Ввод КР'!I24=$I$4,1,0)","v":0},{"$f":"IF('Ввод КР'!J24=$J$4,1,0)","v":0},{"$f":"IF('Ввод КР'!K24=$K$4,1,0)","v":0},{"$f":"IF('Ввод КР'!L24=$L$4,1,0)","v":0},{"$f":"IF('Ввод КР'!M24=$M$4,1,0)","v":0},{"$f":"IF('Ввод КР'!N24=$N$4,1,0)","v":0},{"$f":"IF('Ввод КР'!O24=$O$4,1,0)","v":0},{"$f":"IF('Ввод КР'!P24=$P$4,1,0)","v":0},{"$f":"IF('Ввод КР'!Q24=$Q$4,1,0)","v":0},{"$f":"IF('Ввод КР'!R24=$R$4,1,0)","v":0},{"$f":"IF('Ввод КР'!S24=$S$4,1,0)","v":0},{"$f":"IF('Ввод КР'!T24=$T$4,1,0)","v":0},{"$f":"IF('Ввод КР'!U24=$U$4,1,0)","v":0},{"$f":"IF('Ввод КР'!V24=$V$4,1,0)","v":0},{"$f":"IF('Ввод КР'!W24=$W$4,1,0)","v":0},{"$f":"IF('Ввод КР'!X24=$X$4,1,0)","v":0},{"$f":"IF('Ввод КР'!Y24=$Y$4,1,0)","v":0},{"$f":"IF('Ввод КР'!Z24=$Z$4,1,0)","v":0},{"$f":"IF('Ввод КР'!AA24=$AA$4,1,0)","v":0},{"$f":"IF('Результаты КР'!$J21=1,1,0)","v":0},{"$f":"IF('Результаты КР'!$J21=2,1,0)","v":0},{"$f":"IF('Результаты КР'!$J21=3,1,0)","v":0}]
[16,{"$f":"IF('Ввод КР'!B25>0,1,0)","v":0},{"$f":"IF('Ввод КР'!C25=$C$4,1,0)","v":0},{"$f":"IF('Ввод КР'!D25=$D$4,1,0)","v":0},{"$f":"IF('Ввод КР'!E25=$E$4,1,0)","v":0},{"$f":"IF('Ввод КР'!F25=$F$4,1,0)","v":0},{"$f":"IF('Ввод КР'!G25=$G$4,1,0)","v":0},{"$f":"IF('Ввод КР'!H25=$H$4,1,0)","v":0},{"$f":"IF('Ввод КР'!I25=$I$4,1,0)","v":0},{"$f":"IF('Ввод КР'!J25=$J$4,1,0)","v":0},{"$f":"IF('Ввод КР'!K25=$K$4,1,0)","v":0},{"$f":"IF('Ввод КР'!L25=$L$4,1,0)","v":0},{"$f":"IF('Ввод КР'!M25=$M$4,1,0)","v":0},{"$f":"IF('Ввод КР'!N25=$N$4,1,0)","v":0},{"$f":"IF('Ввод КР'!O25=$O$4,1,0)","v":0},{"$f":"IF('Ввод КР'!P25=$P$4,1,0)","v":0},{"$f":"IF('Ввод КР'!Q25=$Q$4,1,0)","v":0},{"$f":"IF('Ввод КР'!R25=$R$4,1,0)","v":0},{"$f":"IF('Ввод КР'!S25=$S$4,1,0)","v":0},{"$f":"IF('Ввод КР'!T25=$T$4,1,0)","v":0},{"$f":"IF('Ввод КР'!U25=$U$4,1,0)","v":0},{"$f":"IF('Ввод КР'!V25=$V$4,1,0)","v":0},{"$f":"IF('Ввод КР'!W25=$W$4,1,0)","v":0},{"$f":"IF('Ввод КР'!X25=$X$4,1,0)","v":0},{"$f":"IF('Ввод КР'!Y25=$Y$4,1,0)","v":0},{"$f":"IF('Ввод КР'!Z25=$Z$4,1,0)","v":0},{"$f":"IF('Ввод КР'!AA25=$AA$4,1,0)","v":0},{"$f":"IF('Результаты КР'!$J22=1,1,0)","v":0},{"$f":"IF('Результаты КР'!$J22=2,1,0)","v":0},{"$f":"IF('Результаты КР'!$J22=3,1,0)","v":0}]
[17,{"$f":"IF('Ввод КР'!B26>0,1,0)","v":0},{"$f":"IF('Ввод КР'!C26=$C$4,1,0)","v":0},{"$f":"IF('Ввод КР'!D26=$D$4,1,0)","v":0},{"$f":"IF('Ввод КР'!E26=$E$4,1,0)","v":0},{"$f":"IF('Ввод КР'!F26=$F$4,1,0)","v":0},{"$f":"IF('Ввод КР'!G26=$G$4,1,0)","v":0},{"$f":"IF('Ввод КР'!H26=$H$4,1,0)","v":0},{"$f":"IF('Ввод КР'!I26=$I$4,1,0)","v":0},{"$f":"IF('Ввод КР'!J26=$J$4,1,0)","v":0},{"$f":"IF('Ввод КР'!K26=$K$4,1,0)","v":0},{"$f":"IF('Ввод КР'!L26=$L$4,1,0)","v":0},{"$f":"IF('Ввод КР'!M26=$M$4,1,0)","v":0},{"$f":"IF('Ввод КР'!N26=$N$4,1,0)","v":0},{"$f":"IF('Ввод КР'!O26=$O$4,1,0)","v":0},{"$f":"IF('Ввод КР'!P26=$P$4,1,0)","v":0},{"$f":"IF('Ввод КР'!Q26=$Q$4,1,0)","v":0},{"$f":"IF('Ввод КР'!R26=$R$4,1,0)","v":0},{"$f":"IF('Ввод КР'!S26=$S$4,1,0)","v":0},{"$f":"IF('Ввод КР'!T26=$T$4,1,0)","v":0},{"$f":"IF('Ввод КР'!U26=$U$4,1,0)","v":0},{"$f":"IF('Ввод КР'!V26=$V$4,1,0)","v":0},{"$f":"IF('Ввод КР'!W26=$W$4,1,0)","v":0},{"$f":"IF('Ввод КР'!X26=$X$4,1,0)","v":0},{"$f":"IF('Ввод КР'!Y26=$Y$4,1,0)","v":0},{"$f":"IF('Ввод КР'!Z26=$Z$4,1,0)","v":0},{"$f":"IF('Ввод КР'!AA26=$AA$4,1,0)","v":0},{"$f":"IF('Результаты КР'!$J23=1,1,0)","v":0},{"$f":"IF('Результаты КР'!$J23=2,1,0)","v":0},{"$f":"IF('Результаты КР'!$J23=3,1,0)","v":0}]
[18,{"$f":"IF('Ввод КР'!B27>0,1,0)","v":0},{"$f":"IF('Ввод КР'!C27=$C$4,1,0)","v":0},{"$f":"IF('Ввод КР'!D27=$D$4,1,0)","v":0},{"$f":"IF('Ввод КР'!E27=$E$4,1,0)","v":0},{"$f":"IF('Ввод КР'!F27=$F$4,1,0)","v":0},{"$f":"IF('Ввод КР'!G27=$G$4,1,0)","v":0},{"$f":"IF('Ввод КР'!H27=$H$4,1,0)","v":0},{"$f":"IF('Ввод КР'!I27=$I$4,1,0)","v":0},{"$f":"IF('Ввод КР'!J27=$J$4,1,0)","v":0},{"$f":"IF('Ввод КР'!K27=$K$4,1,0)","v":0},{"$f":"IF('Ввод КР'!L27=$L$4,1,0)","v":0},{"$f":"IF('Ввод КР'!M27=$M$4,1,0)","v":0},{"$f":"IF('Ввод КР'!N27=$N$4,1,0)","v":0},{"$f":"IF('Ввод КР'!O27=$O$4,1,0)","v":0},{"$f":"IF('Ввод КР'!P27=$P$4,1,0)","v":0},{"$f":"IF('Ввод КР'!Q27=$Q$4,1,0)","v":0},{"$f":"IF('Ввод КР'!R27=$R$4,1,0)","v":0},{"$f":"IF('Ввод КР'!S27=$S$4,1,0)","v":0},{"$f":"IF('Ввод КР'!T27=$T$4,1,0)","v":0},{"$f":"IF('Ввод КР'!U27=$U$4,1,0)","v":0},{"$f":"IF('Ввод КР'!V27=$V$4,1,0)","v":0},{"$f":"IF('Ввод КР'!W27=$W$4,1,0)","v":0},{"$f":"IF('Ввод КР'!X27=$X$4,1,0)","v":0},{"$f":"IF('Ввод КР'!Y27=$Y$4,1,0)","v":0},{"$f":"IF('Ввод КР'!Z27=$Z$4,1,0)","v":0},{"$f":"IF('Ввод КР'!AA27=$AA$4,1,0)","v":0},{"$f":"IF('Результаты КР'!$J24=1,1,0)","v":0},{"$f":"IF('Результаты КР'!$J24=2,1,0)","v":0},{"$f":"IF('Результаты КР'!$J24=3,1,0)","v":0}]
[19,{"$f":"IF('Ввод КР'!B28>0,1,0)","v":0},{"$f":"IF('Ввод КР'!C28=$C$4,1,0)","v":0},{"$f":"IF('Ввод КР'!D28=$D$4,1,0)","v":0},{"$f":"IF('Ввод КР'!E28=$E$4,1,0)","v":0},{"$f":"IF('Ввод КР'!F28=$F$4,1,0)","v":0},{"$f":"IF('Ввод КР'!G28=$G$4,1,0)","v":0},{"$f":"IF('Ввод КР'!H28=$H$4,1,0)","v":0},{"$f":"IF('Ввод КР'!I28=$I$4,1,0)","v":0},{"$f":"IF('Ввод КР'!J28=$J$4,1,0)","v":0},{"$f":"IF('Ввод КР'!K28=$K$4,1,0)","v":0},{"$f":"IF('Ввод КР'!L28=$L$4,1,0)","v":0},{"$f":"IF('Ввод КР'!M28=$M$4,1,0)","v":0},{"$f":"IF('Ввод КР'!N28=$N$4,1,0)","v":0},{"$f":"IF('Ввод КР'!O28=$O$4,1,0)","v":0},{"$f":"IF('Ввод КР'!P28=$P$4,1,0)","v":0},{"$f":"IF('Ввод КР'!Q28=$Q$4,1,0)","v":0},{"$f":"IF('Ввод КР'!R28=$R$4,1,0)","v":0},{"$f":"IF('Ввод КР'!S28=$S$4,1,0)","v":0},{"$f":"IF('Ввод КР'!T28=$T$4,1,0)","v":0},{"$f":"IF('Ввод КР'!U28=$U$4,1,0)","v":0},{"$f":"IF('Ввод КР'!V28=$V$4,1,0)","v":0},{"$f":"IF('Ввод КР'!W28=$W$4,1,0)","v":0},{"$f":"IF('Ввод КР'!X28=$X$4,1,0)","v":0},{"$f":"IF('Ввод КР'!Y28=$Y$4,1,0)","v":0},{"$f":"IF('Ввод КР'!Z28=$Z$4,1,0)","v":0},{"$f":"IF('Ввод КР'!AA28=$AA$4,1,0)","v":0},{"$f":"IF('Результаты КР'!$J25=1,1,0)","v":0},{"$f":"IF('Результаты КР'!$J25=2,1,0)","v":0},{"$f":"IF('Результаты КР'!$J25=3,1,0)","v":0}]
[20,{"$f":"IF('Ввод КР'!B29>0,1,0)","v":0},{"$f":"IF('Ввод КР'!C29=$C$4,1,0)","v":0},{"$f":"IF('Ввод КР'!D29=$D$4,1,0)","v":0},{"$f":"IF('Ввод КР'!E29=$E$4,1,0)","v":0},{"$f":"IF('Ввод КР'!F29=$F$4,1,0)","v":0},{"$f":"IF('Ввод КР'!G29=$G$4,1,0)","v":0},{"$f":"IF('Ввод КР'!H29=$H$4,1,0)","v":0},{"$f":"IF('Ввод КР'!I29=$I$4,1,0)","v":0},{"$f":"IF('Ввод КР'!J29=$J$4,1,0)","v":0},{"$f":"IF('Ввод КР'!K29=$K$4,1,0)","v":0},{"$f":"IF('Ввод КР'!L29=$L$4,1,0)","v":0},{"$f":"IF('Ввод КР'!M29=$M$4,1,0)","v":0},{"$f":"IF('Ввод КР'!N29=$N$4,1,0)","v":0},{"$f":"IF('Ввод КР'!O29=$O$4,1,0)","v":0},{"$f":"IF('Ввод КР'!P29=$P$4,1,0)","v":0},{"$f":"IF('Ввод КР'!Q29=$Q$4,1,0)","v":0},{"$f":"IF('Ввод КР'!R29=$R$4,1,0)","v":0},{"$f":"IF('Ввод КР'!S29=$S$4,1,0)","v":0},{"$f":"IF('Ввод КР'!T29=$T$4,1,0)","v":0},{"$f":"IF('Ввод КР'!U29=$U$4,1,0)","v":0},{"$f":"IF('Ввод КР'!V29=$V$4,1,0)","v":0},{"$f":"IF('Ввод КР'!W29=$W$4,1,0)","v":0},{"$f":"IF('Ввод КР'!X29=$X$4,1,0)","v":0},{"$f":"IF('Ввод КР'!Y29=$Y$4,1,0)","v":0},{"$f":"IF('Ввод КР'!Z29=$Z$4,1,0)","v":0},{"$f":"IF('Ввод КР'!AA29=$AA$4,1,0)","v":0},{"$f":"IF('Результаты КР'!$J26=1,1,0)","v":0},{"$f":"IF('Результаты КР'!$J26=2,1,0)","v":0},{"$f":"IF('Результаты КР'!$J26=3,1,0)","v":0}]
[21,{"$f":"IF('Ввод КР'!B30>0,1,0)","v":0},{"$f":"IF('Ввод КР'!C30=$C$4,1,0)","v":0},{"$f":"IF('Ввод КР'!D30=$D$4,1,0)","v":0},{"$f":"IF('Ввод КР'!E30=$E$4,1,0)","v":0},{"$f":"IF('Ввод КР'!F30=$F$4,1,0)","v":0},{"$f":"IF('Ввод КР'!G30=$G$4,1,0)","v":0},{"$f":"IF('Ввод КР'!H30=$H$4,1,0)","v":0},{"$f":"IF('Ввод КР'!I30=$I$4,1,0)","v":0},{"$f":"IF('Ввод КР'!J30=$J$4,1,0)","v":0},{"$f":"IF('Ввод КР'!K30=$K$4,1,0)","v":0},{"$f":"IF('Ввод КР'!L30=$L$4,1,0)","v":0},{"$f":"IF('Ввод КР'!M30=$M$4,1,0)","v":0},{"$f":"IF('Ввод КР'!N30=$N$4,1,0)","v":0},{"$f":"IF('Ввод КР'!O30=$O$4,1,0)","v":0},{"$f":"IF('Ввод КР'!P30=$P$4,1,0)","v":0},{"$f":"IF('Ввод КР'!Q30=$Q$4,1,0)","v":0},{"$f":"IF('Ввод КР'!R30=$R$4,1,0)","v":0},{"$f":"IF('Ввод КР'!S30=$S$4,1,0)","v":0},{"$f":"IF('Ввод КР'!T30=$T$4,1,0)","v":0},{"$f":"IF('Ввод КР'!U30=$U$4,1,0)","v":0},{"$f":"IF('Ввод КР'!V30=$V$4,1,0)","v":0},{"$f":"IF('Ввод КР'!W30=$W$4,1,0)","v":0},{"$f":"IF('Ввод КР'!X30=$X$4,1,0)","v":0},{"$f":"IF('Ввод КР'!Y30=$Y$4,1,0)","v":0},{"$f":"IF('Ввод КР'!Z30=$Z$4,1,0)","v":0},{"$f":"IF('Ввод КР'!AA30=$AA$4,1,0)","v":0},{"$f":"IF('Результаты КР'!$J27=1,1,0)","v":0},{"$f":"IF('Результаты КР'!$J27=2,1,0)","v":0},{"$f":"IF('Результаты КР'!$J27=3,1,0)","v":0}]
[22,{"$f":"IF('Ввод КР'!B31>0,1,0)","v":0},{"$f":"IF('Ввод КР'!C31=$C$4,1,0)","v":0},{"$f":"IF('Ввод КР'!D31=$D$4,1,0)","v":0},{"$f":"IF('Ввод КР'!E31=$E$4,1,0)","v":0},{"$f":"IF('Ввод КР'!F31=$F$4,1,0)","v":0},{"$f":"IF('Ввод КР'!G31=$G$4,1,0)","v":0},{"$f":"IF('Ввод КР'!H31=$H$4,1,0)","v":0},{"$f":"IF('Ввод КР'!I31=$I$4,1,0)","v":0},{"$f":"IF('Ввод КР'!J31=$J$4,1,0)","v":0},{"$f":"IF('Ввод КР'!K31=$K$4,1,0)","v":0},{"$f":"IF('Ввод КР'!L31=$L$4,1,0)","v":0},{"$f":"IF('Ввод КР'!M31=$M$4,1,0)","v":0},{"$f":"IF('Ввод КР'!N31=$N$4,1,0)","v":0},{"$f":"IF('Ввод КР'!O31=$O$4,1,0)","v":0},{"$f":"IF('Ввод КР'!P31=$P$4,1,0)","v":0},{"$f":"IF('Ввод КР'!Q31=$Q$4,1,0)","v":0},{"$f":"IF('Ввод КР'!R31=$R$4,1,0)","v":0},{"$f":"IF('Ввод КР'!S31=$S$4,1,0)","v":0},{"$f":"IF('Ввод КР'!T31=$T$4,1,0)","v":0},{"$f":"IF('Ввод КР'!U31=$U$4,1,0)","v":0},{"$f":"IF('Ввод КР'!V31=$V$4,1,0)","v":0},{"$f":"IF('Ввод КР'!W31=$W$4,1,0)","v":0},{"$f":"IF('Ввод КР'!X31=$X$4,1,0)","v":0},{"$f":"IF('Ввод КР'!Y31=$Y$4,1,0)","v":0},{"$f":"IF('Ввод КР'!Z31=$Z$4,1,0)","v":0},{"$f":"IF('Ввод КР'!AA31=$AA$4,1,0)","v":0},{"$f":"IF('Результаты КР'!$J28=1,1,0)","v":0},{"$f":"IF('Результаты КР'!$J28=2,1,0)","v":0},{"$f":"IF('Результаты КР'!$J28=3,1,0)","v":0}]
[23,{"$f":"IF('Ввод КР'!B32>0,1,0)","v":0},{"$f":"IF('Ввод КР'!C32=$C$4,1,0)","v":0},{"$f":"IF('Ввод КР'!D32=$D$4,1,0)","v":0},{"$f":"IF('Ввод КР'!E32=$E$4,1,0)","v":0},{"$f":"IF('Ввод КР'!F32=$F$4,1,0)","v":0},{"$f":"IF('Ввод КР'!G32=$G$4,1,0)","v":0},{"$f":"IF('Ввод КР'!H32=$H$4,1,0)","v":0},{"$f":"IF('Ввод КР'!I32=$I$4,1,0)","v":0},{"$f":"IF('Ввод КР'!J32=$J$4,1,0)","v":0},{"$f":"IF('Ввод КР'!K32=$K$4,1,0)","v":0},{"$f":"IF('Ввод КР'!L32=$L$4,1,0)","v":0},{"$f":"IF('Ввод КР'!M32=$M$4,1,0)","v":0},{"$f":"IF('Ввод КР'!N32=$N$4,1,0)","v":0},{"$f":"IF('Ввод КР'!O32=$O$4,1,0)","v":0},{"$f":"IF('Ввод КР'!P32=$P$4,1,0)","v":0},{"$f":"IF('Ввод КР'!Q32=$Q$4,1,0)","v":0},{"$f":"IF('Ввод КР'!R32=$R$4,1,0)","v":0},{"$f":"IF('Ввод КР'!S32=$S$4,1,0)","v":0},{"$f":"IF('Ввод КР'!T32=$T$4,1,0)","v":0},{"$f":"IF('Ввод КР'!U32=$U$4,1,0)","v":0},{"$f":"IF('Ввод КР'!V32=$V$4,1,0)","v":0},{"$f":"IF('Ввод КР'!W32=$W$4,1,0)","v":0},{"$f":"IF('Ввод КР'!X32=$X$4,1,0)","v":0},{"$f":"IF('Ввод КР'!Y32=$Y$4,1,0)","v":0},{"$f":"IF('Ввод КР'!Z32=$Z$4,1,0)","v":0},{"$f":"IF('Ввод КР'!AA32=$AA$4,1,0)","v":0},{"$f":"IF('Результаты КР'!$J29=1,1,0)","v":0},{"$f":"IF('Результаты КР'!$J29=2,1,0)","v":0},{"$f":"IF('Результаты КР'!$J29=3,1,0)","v":0}]
[24,{"$f":"IF('Ввод КР'!B33>0,1,0)","v":0},{"$f":"IF('Ввод КР'!C33=$C$4,1,0)","v":0},{"$f":"IF('Ввод КР'!D33=$D$4,1,0)","v":0},{"$f":"IF('Ввод КР'!E33=$E$4,1,0)","v":0},{"$f":"IF('Ввод КР'!F33=$F$4,1,0)","v":0},{"$f":"IF('Ввод КР'!G33=$G$4,1,0)","v":0},{"$f":"IF('Ввод КР'!H33=$H$4,1,0)","v":0},{"$f":"IF('Ввод КР'!I33=$I$4,1,0)","v":0},{"$f":"IF('Ввод КР'!J33=$J$4,1,0)","v":0},{"$f":"IF('Ввод КР'!K33=$K$4,1,0)","v":0},{"$f":"IF('Ввод КР'!L33=$L$4,1,0)","v":0},{"$f":"IF('Ввод КР'!M33=$M$4,1,0)","v":0},{"$f":"IF('Ввод КР'!N33=$N$4,1,0)","v":0},{"$f":"IF('Ввод КР'!O33=$O$4,1,0)","v":0},{"$f":"IF('Ввод КР'!P33=$P$4,1,0)","v":0},{"$f":"IF('Ввод КР'!Q33=$Q$4,1,0)","v":0},{"$f":"IF('Ввод КР'!R33=$R$4,1,0)","v":0},{"$f":"IF('Ввод КР'!S33=$S$4,1,0)","v":0},{"$f":"IF('Ввод КР'!T33=$T$4,1,0)","v":0},{"$f":"IF('Ввод КР'!U33=$U$4,1,0)","v":0},{"$f":"IF('Ввод КР'!V33=$V$4,1,0)","v":0},{"$f":"IF('Ввод КР'!W33=$W$4,1,0)","v":0},{"$f":"IF('Ввод КР'!X33=$X$4,1,0)","v":0},{"$f":"IF('Ввод КР'!Y33=$Y$4,1,0)","v":0},{"$f":"IF('Ввод КР'!Z33=$Z$4,1,0)","v":0},{"$f":"IF('Ввод КР'!AA33=$AA$4,1,0)","v":0},{"$f":"IF('Результаты КР'!$J30=1,1,0)","v":0},{"$f":"IF('Результаты КР'!$J30=2,1,0)","v":0},{"$f":"IF('Результаты КР'!$J30=3,1,0)","v":0}]
[25,{"$f":"IF('Ввод КР'!B34>0,1,0)","v":0},{"$f":"IF('Ввод КР'!C34=$C$4,1,0)","v":0},{"$f":"IF('Ввод КР'!D34=$D$4,1,0)","v":0},{"$f":"IF('Ввод КР'!E34=$E$4,1,0)","v":0},{"$f":"IF('Ввод КР'!F34=$F$4,1,0)","v":0},{"$f":"IF('Ввод КР'!G34=$G$4,1,0)","v":0},{"$f":"IF('Ввод КР'!H34=$H$4,1,0)","v":0},{"$f":"IF('Ввод КР'!I34=$I$4,1,0)","v":0},{"$f":"IF('Ввод КР'!J34=$J$4,1,0)","v":0},{"$f":"IF('Ввод КР'!K34=$K$4,1,0)","v":0},{"$f":"IF('Ввод КР'!L34=$L$4,1,0)","v":0},{"$f":"IF('Ввод КР'!M34=$M$4,1,0)","v":0},{"$f":"IF('Ввод КР'!N34=$N$4,1,0)","v":0},{"$f":"IF('Ввод КР'!O34=$O$4,1,0)","v":0},{"$f":"IF('Ввод КР'!P34=$P$4,1,0)","v":0},{"$f":"IF('Ввод КР'!Q34=$Q$4,1,0)","v":0},{"$f":"IF('Ввод КР'!R34=$R$4,1,0)","v":0},{"$f":"IF('Ввод КР'!S34=$S$4,1,0)","v":0},{"$f":"IF('Ввод КР'!T34=$T$4,1,0)","v":0},{"$f":"IF('Ввод КР'!U34=$U$4,1,0)","v":0},{"$f":"IF('Ввод КР'!V34=$V$4,1,0)","v":0},{"$f":"IF('Ввод КР'!W34=$W$4,1,0)","v":0},{"$f":"IF('Ввод КР'!X34=$X$4,1,0)","v":0},{"$f":"IF('Ввод КР'!Y34=$Y$4,1,0)","v":0},{"$f":"IF('Ввод КР'!Z34=$Z$4,1,0)","v":0},{"$f":"IF('Ввод КР'!AA34=$AA$4,1,0)","v":0},{"$f":"IF('Результаты КР'!$J31=1,1,0)","v":0},{"$f":"IF('Результаты КР'!$J31=2,1,0)","v":0},{"$f":"IF('Результаты КР'!$J31=3,1,0)","v":0}]
[26,{"$f":"IF('Ввод КР'!B35>0,1,0)","v":0},{"$f":"IF('Ввод КР'!C35=$C$4,1,0)","v":0},{"$f":"IF('Ввод КР'!D35=$D$4,1,0)","v":0},{"$f":"IF('Ввод КР'!E35=$E$4,1,0)","v":0},{"$f":"IF('Ввод КР'!F35=$F$4,1,0)","v":0},{"$f":"IF('Ввод КР'!G35=$G$4,1,0)","v":0},{"$f":"IF('Ввод КР'!H35=$H$4,1,0)","v":0},{"$f":"IF('Ввод КР'!I35=$I$4,1,0)","v":0},{"$f":"IF('Ввод КР'!J35=$J$4,1,0)","v":0},{"$f":"IF('Ввод КР'!K35=$K$4,1,0)","v":0},{"$f":"IF('Ввод КР'!L35=$L$4,1,0)","v":0},{"$f":"IF('Ввод КР'!M35=$M$4,1,0)","v":0},{"$f":"IF('Ввод КР'!N35=$N$4,1,0)","v":0},{"$f":"IF('Ввод КР'!O35=$O$4,1,0)","v":0},{"$f":"IF('Ввод КР'!P35=$P$4,1,0)","v":0},{"$f":"IF('Ввод КР'!Q35=$Q$4,1,0)","v":0},{"$f":"IF('Ввод КР'!R35=$R$4,1,0)","v":0},{"$f":"IF('Ввод КР'!S35=$S$4,1,0)","v":0},{"$f":"IF('Ввод КР'!T35=$T$4,1,0)","v":0},{"$f":"IF('Ввод КР'!U35=$U$4,1,0)","v":0},{"$f":"IF('Ввод КР'!V35=$V$4,1,0)","v":0},{"$f":"IF('Ввод КР'!W35=$W$4,1,0)","v":0},{"$f":"IF('Ввод КР'!X35=$X$4,1,0)","v":0},{"$f":"IF('Ввод КР'!Y35=$Y$4,1,0)","v":0},{"$f":"IF('Ввод КР'!Z35=$Z$4,1,0)","v":0},{"$f":"IF('Ввод КР'!AA35=$AA$4,1,0)","v":0},{"$f":"IF('Результаты КР'!$J32=1,1,0)","v":0},{"$f":"IF('Результаты КР'!$J32=2,1,0)","v":0},{"$f":"IF('Результаты КР'!$J32=3,1,0)","v":0}]
[27,{"$f":"IF('Ввод КР'!B36>0,1,0)","v":0},{"$f":"IF('Ввод КР'!C36=$C$4,1,0)","v":0},{"$f":"IF('Ввод КР'!D36=$D$4,1,0)","v":0},{"$f":"IF('Ввод КР'!E36=$E$4,1,0)","v":0},{"$f":"IF('Ввод КР'!F36=$F$4,1,0)","v":0},{"$f":"IF('Ввод КР'!G36=$G$4,1,0)","v":0},{"$f":"IF('Ввод КР'!H36=$H$4,1,0)","v":0},{"$f":"IF('Ввод КР'!I36=$I$4,1,0)","v":0},{"$f":"IF('Ввод КР'!J36=$J$4,1,0)","v":0},{"$f":"IF('Ввод КР'!K36=$K$4,1,0)","v":0},{"$f":"IF('Ввод КР'!L36=$L$4,1,0)","v":0},{"$f":"IF('Ввод КР'!M36=$M$4,1,0)","v":0},{"$f":"IF('Ввод КР'!N36=$N$4,1,0)","v":0},{"$f":"IF('Ввод КР'!O36=$O$4,1,0)","v":0},{"$f":"IF('Ввод КР'!P36=$P$4,1,0)","v":0},{"$f":"IF('Ввод КР'!Q36=$Q$4,1,0)","v":0},{"$f":"IF('Ввод КР'!R36=$R$4,1,0)","v":0},{"$f":"IF('Ввод КР'!S36=$S$4,1,0)","v":0},{"$f":"IF('Ввод КР'!T36=$T$4,1,0)","v":0},{"$f":"IF('Ввод КР'!U36=$U$4,1,0)","v":0},{"$f":"IF('Ввод КР'!V36=$V$4,1,0)","v":0},{"$f":"IF('Ввод КР'!W36=$W$4,1,0)","v":0},{"$f":"IF('Ввод КР'!X36=$X$4,1,0)","v":0},{"$f":"IF('Ввод КР'!Y36=$Y$4,1,0)","v":0},{"$f":"IF('Ввод КР'!Z36=$Z$4,1,0)","v":0},{"$f":"IF('Ввод КР'!AA36=$AA$4,1,0)","v":0},{"$f":"IF('Результаты КР'!$J33=1,1,0)","v":0},{"$f":"IF('Результаты КР'!$J33=2,1,0)","v":0},{"$f":"IF('Результаты КР'!$J33=3,1,0)","v":0}]
[28,{"$f":"IF('Ввод КР'!B37>0,1,0)","v":0},{"$f":"IF('Ввод КР'!C37=$C$4,1,0)","v":0},{"$f":"IF('Ввод КР'!D37=$D$4,1,0)","v":0},{"$f":"IF('Ввод КР'!E37=$E$4,1,0)","v":0},{"$f":"IF('Ввод КР'!F37=$F$4,1,0)","v":0},{"$f":"IF('Ввод КР'!G37=$G$4,1,0)","v":0},{"$f":"IF('Ввод КР'!H37=$H$4,1,0)","v":0},{"$f":"IF('Ввод КР'!I37=$I$4,1,0)","v":0},{"$f":"IF('Ввод КР'!J37=$J$4,1,0)","v":0},{"$f":"IF('Ввод КР'!K37=$K$4,1,0)","v":0},{"$f":"IF('Ввод КР'!L37=$L$4,1,0)","v":0},{"$f":"IF('Ввод КР'!M37=$M$4,1,0)","v":0},{"$f":"IF('Ввод КР'!N37=$N$4,1,0)","v":0},{"$f":"IF('Ввод КР'!O37=$O$4,1,0)","v":0},{"$f":"IF('Ввод КР'!P37=$P$4,1,0)","v":0},{"$f":"IF('Ввод КР'!Q37=$Q$4,1,0)","v":0},{"$f":"IF('Ввод КР'!R37=$R$4,1,0)","v":0},{"$f":"IF('Ввод КР'!S37=$S$4,1,0)","v":0},{"$f":"IF('Ввод КР'!T37=$T$4,1,0)","v":0},{"$f":"IF('Ввод КР'!U37=$U$4,1,0)","v":0},{"$f":"IF('Ввод КР'!V37=$V$4,1,0)","v":0},{"$f":"IF('Ввод КР'!W37=$W$4,1,0)","v":0},{"$f":"IF('Ввод КР'!X37=$X$4,1,0)","v":0},{"$f":"IF('Ввод КР'!Y37=$Y$4,1,0)","v":0},{"$f":"IF('Ввод КР'!Z37=$Z$4,1,0)","v":0},{"$f":"IF('Ввод КР'!AA37=$AA$4,1,0)","v":0},{"$f":"IF('Результаты КР'!$J34=1,1,0)","v":0},{"$f":"IF('Результаты КР'!$J34=2,1,0)","v":0},{"$f":"IF('Результаты КР'!$J34=3,1,0)","v":0}]
[29,{"$f":"IF('Ввод КР'!B38>0,1,0)","v":0},{"$f":"IF('Ввод КР'!C38=$C$4,1,0)","v":0},{"$f":"IF('Ввод КР'!D38=$D$4,1,0)","v":0},{"$f":"IF('Ввод КР'!E38=$E$4,1,0)","v":0},{"$f":"IF('Ввод КР'!F38=$F$4,1,0)","v":0},{"$f":"IF('Ввод КР'!G38=$G$4,1,0)","v":0},{"$f":"IF('Ввод КР'!H38=$H$4,1,0)","v":0},{"$f":"IF('Ввод КР'!I38=$I$4,1,0)","v":0},{"$f":"IF('Ввод КР'!J38=$J$4,1,0)","v":0},{"$f":"IF('Ввод КР'!K38=$K$4,1,0)","v":0},{"$f":"IF('Ввод КР'!L38=$L$4,1,0)","v":0},{"$f":"IF('Ввод КР'!M38=$M$4,1,0)","v":0},{"$f":"IF('Ввод КР'!N38=$N$4,1,0)","v":0},{"$f":"IF('Ввод КР'!O38=$O$4,1,0)","v":0},{"$f":"IF('Ввод КР'!P38=$P$4,1,0)","v":0},{"$f":"IF('Ввод КР'!Q38=$Q$4,1,0)","v":0},{"$f":"IF('Ввод КР'!R38=$R$4,1,0)","v":0},{"$f":"IF('Ввод КР'!S38=$S$4,1,0)","v":0},{"$f":"IF('Ввод КР'!T38=$T$4,1,0)","v":0},{"$f":"IF('Ввод КР'!U38=$U$4,1,0)","v":0},{"$f":"IF('Ввод КР'!V38=$V$4,1,0)","v":0},{"$f":"IF('Ввод КР'!W38=$W$4,1,0)","v":0},{"$f":"IF('Ввод КР'!X38=$X$4,1,0)","v":0},{"$f":"IF('Ввод КР'!Y38=$Y$4,1,0)","v":0},{"$f":"IF('Ввод КР'!Z38=$Z$4,1,0)","v":0},{"$f":"IF('Ввод КР'!AA38=$AA$4,1,0)","v":0},{"$f":"IF('Результаты КР'!$J35=1,1,0)","v":0},{"$f":"IF('Результаты КР'!$J35=2,1,0)","v":0},{"$f":"IF('Результаты КР'!$J35=3,1,0)","v":0}]
[30,{"$f":"IF('Ввод КР'!B39>0,1,0)","v":0},{"$f":"IF('Ввод КР'!C39=$C$4,1,0)","v":0},{"$f":"IF('Ввод КР'!D39=$D$4,1,0)","v":0},{"$f":"IF('Ввод КР'!E39=$E$4,1,0)","v":0},{"$f":"IF('Ввод КР'!F39=$F$4,1,0)","v":0},{"$f":"IF('Ввод КР'!G39=$G$4,1,0)","v":0},{"$f":"IF('Ввод КР'!H39=$H$4,1,0)","v":0},{"$f":"IF('Ввод КР'!I39=$I$4,1,0)","v":0},{"$f":"IF('Ввод КР'!J39=$J$4,1,0)","v":0},{"$f":"IF('Ввод КР'!K39=$K$4,1,0)","v":0},{"$f":"IF('Ввод КР'!L39=$L$4,1,0)","v":0},{"$f":"IF('Ввод КР'!M39=$M$4,1,0)","v":0},{"$f":"IF('Ввод КР'!N39=$N$4,1,0)","v":0},{"$f":"IF('Ввод КР'!O39=$O$4,1,0)","v":0},{"$f":"IF('Ввод КР'!P39=$P$4,1,0)","v":0},{"$f":"IF('Ввод КР'!Q39=$Q$4,1,0)","v":0},{"$f":"IF('Ввод КР'!R39=$R$4,1,0)","v":0},{"$f":"IF('Ввод КР'!S39=$S$4,1,0)","v":0},{"$f":"IF('Ввод КР'!T39=$T$4,1,0)","v":0},{"$f":"IF('Ввод КР'!U39=$U$4,1,0)","v":0},{"$f":"IF('Ввод КР'!V39=$V$4,1,0)","v":0},{"$f":"IF('Ввод КР'!W39=$W$4,1,0)","v":0},{"$f":"IF('Ввод КР'!X39=$X$4,1,0)","v":0},{"$f":"IF('Ввод КР'!Y39=$Y$4,1,0)","v":0},{"$f":"IF('Ввод КР'!Z39=$Z$4,1,0)","v":0},{"$f":"IF('Ввод КР'!AA39=$AA$4,1,0)","v":0},{"$f":"IF('Результаты КР'!$J36=1,1,0)","v":0},{"$f":"IF('Результаты КР'!$J36=2,1,0)","v":0},{"$f":"IF('Результаты КР'!$J36=3,1,0)","v":0}]
[31,{"$f":"IF('Ввод КР'!B40>0,1,0)","v":0},{"$f":"IF('Ввод КР'!C40=$C$4,1,0)","v":0},{"$f":"IF('Ввод КР'!D40=$D$4,1,0)","v":0},{"$f":"IF('Ввод КР'!E40=$E$4,1,0)","v":0},{"$f":"IF('Ввод КР'!F40=$F$4,1,0)","v":0},{"$f":"IF('Ввод КР'!G40=$G$4,1,0)","v":0},{"$f":"IF('Ввод КР'!H40=$H$4,1,0)","v":0},{"$f":"IF('Ввод КР'!I40=$I$4,1,0)","v":0},{"$f":"IF('Ввод КР'!J40=$J$4,1,0)","v":0},{"$f":"IF('Ввод КР'!K40=$K$4,1,0)","v":0},{"$f":"IF('Ввод КР'!L40=$L$4,1,0)","v":0},{"$f":"IF('Ввод КР'!M40=$M$4,1,0)","v":0},{"$f":"IF('Ввод КР'!N40=$N$4,1,0)","v":0},{"$f":"IF('Ввод КР'!O40=$O$4,1,0)","v":0},{"$f":"IF('Ввод КР'!P40=$P$4,1,0)","v":0},{"$f":"IF('Ввод КР'!Q40=$Q$4,1,0)","v":0},{"$f":"IF('Ввод КР'!R40=$R$4,1,0)","v":0},{"$f":"IF('Ввод КР'!S40=$S$4,1,0)","v":0},{"$f":"IF('Ввод КР'!T40=$T$4,1,0)","v":0},{"$f":"IF('Ввод КР'!U40=$U$4,1,0)","v":0},{"$f":"IF('Ввод КР'!V40=$V$4,1,0)","v":0},{"$f":"IF('Ввод КР'!W40=$W$4,1,0)","v":0},{"$f":"IF('Ввод КР'!X40=$X$4,1,0)","v":0},{"$f":"IF('Ввод КР'!Y40=$Y$4,1,0)","v":0},{"$f":"IF('Ввод КР'!Z40=$Z$4,1,0)","v":0},{"$f":"IF('Ввод КР'!AA40=$AA$4,1,0)","v":0},{"$f":"IF('Результаты КР'!$J37=1,1,0)","v":0},{"$f":"IF('Результаты КР'!$J37=2,1,0)","v":0},{"$f":"IF('Результаты КР'!$J37=3,1,0)","v":0}]
[32,{"$f":"IF('Ввод КР'!B41>0,1,0)","v":0},{"$f":"IF('Ввод КР'!C41=$C$4,1,0)","v":0},{"$f":"IF('Ввод КР'!D41=$D$4,1,0)","v":0},{"$f":"IF('Ввод КР'!E41=$E$4,1,0)","v":0},{"$f":"IF('Ввод КР'!F41=$F$4,1,0)","v":0},{"$f":"IF('Ввод КР'!G41=$G$4,1,0)","v":0},{"$f":"IF('Ввод КР'!H41=$H$4,1,0)","v":0},{"$f":"IF('Ввод КР'!I41=$I$4,1,0)","v":0},{"$f":"IF('Ввод КР'!J41=$J$4,1,0)","v":0},{"$f":"IF('Ввод КР'!K41=$K$4,1,0)","v":0},{"$f":"IF('Ввод КР'!L41=$L$4,1,0)","v":0},{"$f":"IF('Ввод КР'!M41=$M$4,1,0)","v":0},{"$f":"IF('Ввод КР'!N41=$N$4,1,0)","v":0},{"$f":"IF('Ввод КР'!O41=$O$4,1,0)","v":0},{"$f":"IF('Ввод КР'!P41=$P$4,1,0)","v":0},{"$f":"IF('Ввод КР'!Q41=$Q$4,1,0)","v":0},{"$f":"IF('Ввод КР'!R41=$R$4,1,0)","v":0},{"$f":"IF('Ввод КР'!S41=$S$4,1,0)","v":0},{"$f":"IF('Ввод КР'!T41=$T$4,1,0)","v":0},{"$f":"IF('Ввод КР'!U41=$U$4,1,0)","v":0},{"$f":"IF('Ввод КР'!V41=$V$4,1,0)","v":0},{"$f":"IF('Ввод КР'!W41=$W$4,1,0)","v":0},{"$f":"IF('Ввод КР'!X41=$X$4,1,0)","v":0},{"$f":"IF('Ввод КР'!Y41=$Y$4,1,0)","v":0},{"$f":"IF('Ввод КР'!Z41=$Z$4,1,0)","v":0},{"$f":"IF('Ввод КР'!AA41=$AA$4,1,0)","v":0},{"$f":"IF('Результаты КР'!$J38=1,1,0)","v":0},{"$f":"IF('Результаты КР'!$J38=2,1,0)","v":0},{"$f":"IF('Результаты КР'!$J38=3,1,0)","v":0}]
[33,{"$f":"IF('Ввод КР'!B42>0,1,0)","v":0},{"$f":"IF('Ввод КР'!C42=$C$4,1,0)","v":0},{"$f":"IF('Ввод КР'!D42=$D$4,1,0)","v":0},{"$f":"IF('Ввод КР'!E42=$E$4,1,0)","v":0},{"$f":"IF('Ввод КР'!F42=$F$4,1,0)","v":0},{"$f":"IF('Ввод КР'!G42=$G$4,1,0)","v":0},{"$f":"IF('Ввод КР'!H42=$H$4,1,0)","v":0},{"$f":"IF('Ввод КР'!I42=$I$4,1,0)","v":0},{"$f":"IF('Ввод КР'!J42=$J$4,1,0)","v":0},{"$f":"IF('Ввод КР'!K42=$K$4,1,0)","v":0},{"$f":"IF('Ввод КР'!L42=$L$4,1,0)","v":0},{"$f":"IF('Ввод КР'!M42=$M$4,1,0)","v":0},{"$f":"IF('Ввод КР'!N42=$N$4,1,0)","v":0},{"$f":"IF('Ввод КР'!O42=$O$4,1,0)","v":0},{"$f":"IF('Ввод КР'!P42=$P$4,1,0)","v":0},{"$f":"IF('Ввод КР'!Q42=$Q$4,1,0)","v":0},{"$f":"IF('Ввод КР'!R42=$R$4,1,0)","v":0},{"$f":"IF('Ввод КР'!S42=$S$4,1,0)","v":0},{"$f":"IF('Ввод КР'!T42=$T$4,1,0)","v":0},{"$f":"IF('Ввод КР'!U42=$U$4,1,0)","v":0},{"$f":"IF('Ввод КР'!V42=$V$4,1,0)","v":0},{"$f":"IF('Ввод КР'!W42=$W$4,1,0)","v":0},{"$f":"IF('Ввод КР'!X42=$X$4,1,0)","v":0},{"$f":"IF('Ввод КР'!Y42=$Y$4,1,0)","v":0},{"$f":"IF('Ввод КР'!Z42=$Z$4,1,0)","v":0},{"$f":"IF('Ввод КР'!AA42=$AA$4,1,0)","v":0},{"$f":"IF('Результаты КР'!$J39=1,1,0)","v":0},{"$f":"IF('Результаты КР'!$J39=2,1,0)","v":0},{"$f":"IF('Результаты КР'!$J39=3,1,0)","v":0}]
[34,{"$f":"IF('Ввод КР'!B43>0,1,0)","v":0},{"$f":"IF('Ввод КР'!C43=$C$4,1,0)","v":0},{"$f":"IF('Ввод КР'!D43=$D$4,1,0)","v":0},{"$f":"IF('Ввод КР'!E43=$E$4,1,0)","v":0},{"$f":"IF('Ввод КР'!F43=$F$4,1,0)","v":0},{"$f":"IF('Ввод КР'!G43=$G$4,1,0)","v":0},{"$f":"IF('Ввод КР'!H43=$H$4,1,0)","v":0},{"$f":"IF('Ввод КР'!I43=$I$4,1,0)","v":0},{"$f":"IF('Ввод КР'!J43=$J$4,1,0)","v":0},{"$f":"IF('Ввод КР'!K43=$K$4,1,0)","v":0},{"$f":"IF('Ввод КР'!L43=$L$4,1,0)","v":0},{"$f":"IF('Ввод КР'!M43=$M$4,1,0)","v":0},{"$f":"IF('Ввод КР'!N43=$N$4,1,0)","v":0},{"$f":"IF('Ввод КР'!O43=$O$4,1,0)","v":0},{"$f":"IF('Ввод КР'!P43=$P$4,1,0)","v":0},{"$f":"IF('Ввод КР'!Q43=$Q$4,1,0)","v":0},{"$f":"IF('Ввод КР'!R43=$R$4,1,0)","v":0},{"$f":"IF('Ввод КР'!S43=$S$4,1,0)","v":0},{"$f":"IF('Ввод КР'!T43=$T$4,1,0)","v":0},{"$f":"IF('Ввод КР'!U43=$U$4,1,0)","v":0},{"$f":"IF('Ввод КР'!V43=$V$4,1,0)","v":0},{"$f":"IF('Ввод КР'!W43=$W$4,1,0)","v":0},{"$f":"IF('Ввод КР'!X43=$X$4,1,0)","v":0},{"$f":"IF('Ввод КР'!Y43=$Y$4,1,0)","v":0},{"$f":"IF('Ввод КР'!Z43=$Z$4,1,0)","v":0},{"$f":"IF('Ввод КР'!AA43=$AA$4,1,0)","v":0},{"$f":"IF('Результаты КР'!$J40=1,1,0)","v":0},{"$f":"IF('Результаты КР'!$J40=2,1,0)","v":0},{"$f":"IF('Результаты КР'!$J40=3,1,0)","v":0}]
[35,{"$f":"IF('Ввод КР'!B44>0,1,0)","v":0},{"$f":"IF('Ввод КР'!C44=$C$4,1,0)","v":0},{"$f":"IF('Ввод КР'!D44=$D$4,1,0)","v":0},{"$f":"IF('Ввод КР'!E44=$E$4,1,0)","v":0},{"$f":"IF('Ввод КР'!F44=$F$4,1,0)","v":0},{"$f":"IF('Ввод КР'!G44=$G$4,1,0)","v":0},{"$f":"IF('Ввод КР'!H44=$H$4,1,0)","v":0},{"$f":"IF('Ввод КР'!I44=$I$4,1,0)","v":0},{"$f":"IF('Ввод КР'!J44=$J$4,1,0)","v":0},{"$f":"IF('Ввод КР'!K44=$K$4,1,0)","v":0},{"$f":"IF('Ввод КР'!L44=$L$4,1,0)","v":0},{"$f":"IF('Ввод КР'!M44=$M$4,1,0)","v":0},{"$f":"IF('Ввод КР'!N44=$N$4,1,0)","v":0},{"$f":"IF('Ввод КР'!O44=$O$4,1,0)","v":0},{"$f":"IF('Ввод КР'!P44=$P$4,1,0)","v":0},{"$f":"IF('Ввод КР'!Q44=$Q$4,1,0)","v":0},{"$f":"IF('Ввод КР'!R44=$R$4,1,0)","v":0},{"$f":"IF('Ввод КР'!S44=$S$4,1,0)","v":0},{"$f":"IF('Ввод КР'!T44=$T$4,1,0)","v":0},{"$f":"IF('Ввод КР'!U44=$U$4,1,0)","v":0},{"$f":"IF('Ввод КР'!V44=$V$4,1,0)","v":0},{"$f":"IF('Ввод КР'!W44=$W$4,1,0)","v":0},{"$f":"IF('Ввод КР'!X44=$X$4,1,0)","v":0},{"$f":"IF('Ввод КР'!Y44=$Y$4,1,0)","v":0},{"$f":"IF('Ввод КР'!Z44=$Z$4,1,0)","v":0},{"$f":"IF('Ввод КР'!AA44=$AA$4,1,0)","v":0},{"$f":"IF('Результаты КР'!$J41=1,1,0)","v":0},{"$f":"IF('Результаты КР'!$J41=2,1,0)","v":0},{"$f":"IF('Результаты КР'!$J41=3,1,0)","v":0}]
[36,{"$f":"IF('Ввод КР'!B45>0,1,0)","v":0},{"$f":"IF('Ввод КР'!C45=$C$4,1,0)","v":0},{"$f":"IF('Ввод КР'!D45=$D$4,1,0)","v":0},{"$f":"IF('Ввод КР'!E45=$E$4,1,0)","v":0},{"$f":"IF('Ввод КР'!F45=$F$4,1,0)","v":0},{"$f":"IF('Ввод КР'!G45=$G$4,1,0)","v":0},{"$f":"IF('Ввод КР'!H45=$H$4,1,0)","v":0},{"$f":"IF('Ввод КР'!I45=$I$4,1,0)","v":0},{"$f":"IF('Ввод КР'!J45=$J$4,1,0)","v":0},{"$f":"IF('Ввод КР'!K45=$K$4,1,0)","v":0},{"$f":"IF('Ввод КР'!L45=$L$4,1,0)","v":0},{"$f":"IF('Ввод КР'!M45=$M$4,1,0)","v":0},{"$f":"IF('Ввод КР'!N45=$N$4,1,0)","v":0},{"$f":"IF('Ввод КР'!O45=$O$4,1,0)","v":0},{"$f":"IF('Ввод КР'!P45=$P$4,1,0)","v":0},{"$f":"IF('Ввод КР'!Q45=$Q$4,1,0)","v":0},{"$f":"IF('Ввод КР'!R45=$R$4,1,0)","v":0},{"$f":"IF('Ввод КР'!S45=$S$4,1,0)","v":0},{"$f":"IF('Ввод КР'!T45=$T$4,1,0)","v":0},{"$f":"IF('Ввод КР'!U45=$U$4,1,0)","v":0},{"$f":"IF('Ввод КР'!V45=$V$4,1,0)","v":0},{"$f":"IF('Ввод КР'!W45=$W$4,1,0)","v":0},{"$f":"IF('Ввод КР'!X45=$X$4,1,0)","v":0},{"$f":"IF('Ввод КР'!Y45=$Y$4,1,0)","v":0},{"$f":"IF('Ввод КР'!Z45=$Z$4,1,0)","v":0},{"$f":"IF('Ввод КР'!AA45=$AA$4,1,0)","v":0},{"$f":"IF('Результаты КР'!$J42=1,1,0)","v":0},{"$f":"IF('Результаты КР'!$J42=2,1,0)","v":0},{"$f":"IF('Результаты КР'!$J42=3,1,0)","v":0}]
[37,{"$f":"IF('Ввод КР'!B46>0,1,0)","v":0},{"$f":"IF('Ввод КР'!C46=$C$4,1,0)","v":0},{"$f":"IF('Ввод КР'!D46=$D$4,1,0)","v":0},{"$f":"IF('Ввод КР'!E46=$E$4,1,0)","v":0},{"$f":"IF('Ввод КР'!F46=$F$4,1,0)","v":0},{"$f":"IF('Ввод КР'!G46=$G$4,1,0)","v":0},{"$f":"IF('Ввод КР'!H46=$H$4,1,0)","v":0},{"$f":"IF('Ввод КР'!I46=$I$4,1,0)","v":0},{"$f":"IF('Ввод КР'!J46=$J$4,1,0)","v":0},{"$f":"IF('Ввод КР'!K46=$K$4,1,0)","v":0},{"$f":"IF('Ввод КР'!L46=$L$4,1,0)","v":0},{"$f":"IF('Ввод КР'!M46=$M$4,1,0)","v":0},{"$f":"IF('Ввод КР'!N46=$N$4,1,0)","v":0},{"$f":"IF('Ввод КР'!O46=$O$4,1,0)","v":0},{"$f":"IF('Ввод КР'!P46=$P$4,1,0)","v":0},{"$f":"IF('Ввод КР'!Q46=$Q$4,1,0)","v":0},{"$f":"IF('Ввод КР'!R46=$R$4,1,0)","v":0},{"$f":"IF('Ввод КР'!S46=$S$4,1,0)","v":0},{"$f":"IF('Ввод КР'!T46=$T$4,1,0)","v":0},{"$f":"IF('Ввод КР'!U46=$U$4,1,0)","v":0},{"$f":"IF('Ввод КР'!V46=$V$4,1,0)","v":0},{"$f":"IF('Ввод КР'!W46=$W$4,1,0)","v":0},{"$f":"IF('Ввод КР'!X46=$X$4,1,0)","v":0},{"$f":"IF('Ввод КР'!Y46=$Y$4,1,0)","v":0},{"$f":"IF('Ввод КР'!Z46=$Z$4,1,0)","v":0},{"$f":"IF('Ввод КР'!AA46=$AA$4,1,0)","v":0},{"$f":"IF('Результаты КР'!$J43=1,1,0)","v":0},{"$f":"IF('Результаты КР'!$J43=2,1,0)","v":0},{"$f":"IF('Результаты КР'!$J43=3,1,0)","v":0}]
[38,{"$f":"IF('Ввод КР'!B47>0,1,0)","v":0},{"$f":"IF('Ввод КР'!C47=$C$4,1,0)","v":0},{"$f":"IF('Ввод КР'!D47=$D$4,1,0)","v":0},{"$f":"IF('Ввод КР'!E47=$E$4,1,0)","v":0},{"$f":"IF('Ввод КР'!F47=$F$4,1,0)","v":0},{"$f":"IF('Ввод КР'!G47=$G$4,1,0)","v":0},{"$f":"IF('Ввод КР'!H47=$H$4,1,0)","v":0},{"$f":"IF('Ввод КР'!I47=$I$4,1,0)","v":0},{"$f":"IF('Ввод КР'!J47=$J$4,1,0)","v":0},{"$f":"IF('Ввод КР'!K47=$K$4,1,0)","v":0},{"$f":"IF('Ввод КР'!L47=$L$4,1,0)","v":0},{"$f":"IF('Ввод КР'!M47=$M$4,1,0)","v":0},{"$f":"IF('Ввод КР'!N47=$N$4,1,0)","v":0},{"$f":"IF('Ввод КР'!O47=$O$4,1,0)","v":0},{"$f":"IF('Ввод КР'!P47=$P$4,1,0)","v":0},{"$f":"IF('Ввод КР'!Q47=$Q$4,1,0)","v":0},{"$f":"IF('Ввод КР'!R47=$R$4,1,0)","v":0},{"$f":"IF('Ввод КР'!S47=$S$4,1,0)","v":0},{"$f":"IF('Ввод КР'!T47=$T$4,1,0)","v":0},{"$f":"IF('Ввод КР'!U47=$U$4,1,0)","v":0},{"$f":"IF('Ввод КР'!V47=$V$4,1,0)","v":0},{"$f":"IF('Ввод КР'!W47=$W$4,1,0)","v":0},{"$f":"IF('Ввод КР'!X47=$X$4,1,0)","v":0},{"$f":"IF('Ввод КР'!Y47=$Y$4,1,0)","v":0},{"$f":"IF('Ввод КР'!Z47=$Z$4,1,0)","v":0},{"$f":"IF('Ввод КР'!AA47=$AA$4,1,0)","v":0},{"$f":"IF('Результаты КР'!$J44=1,1,0)","v":0},{"$f":"IF('Результаты КР'!$J44=2,1,0)","v":0},{"$f":"IF('Результаты КР'!$J44=3,1,0)","v":0}]
[39,{"$f":"IF('Ввод КР'!B48>0,1,0)","v":0},{"$f":"IF('Ввод КР'!C48=$C$4,1,0)","v":0},{"$f":"IF('Ввод КР'!D48=$D$4,1,0)","v":0},{"$f":"IF('Ввод КР'!E48=$E$4,1,0)","v":0},{"$f":"IF('Ввод КР'!F48=$F$4,1,0)","v":0},{"$f":"IF('Ввод КР'!G48=$G$4,1,0)","v":0},{"$f":"IF('Ввод КР'!H48=$H$4,1,0)","v":0},{"$f":"IF('Ввод КР'!I48=$I$4,1,0)","v":0},{"$f":"IF('Ввод КР'!J48=$J$4,1,0)","v":0},{"$f":"IF('Ввод КР'!K48=$K$4,1,0)","v":0},{"$f":"IF('Ввод КР'!L48=$L$4,1,0)","v":0},{"$f":"IF('Ввод КР'!M48=$M$4,1,0)","v":0},{"$f":"IF('Ввод КР'!N48=$N$4,1,0)","v":0},{"$f":"IF('Ввод КР'!O48=$O$4,1,0)","v":0},{"$f":"IF('Ввод КР'!P48=$P$4,1,0)","v":0},{"$f":"IF('Ввод КР'!Q48=$Q$4,1,0)","v":0},{"$f":"IF('Ввод КР'!R48=$R$4,1,0)","v":0},{"$f":"IF('Ввод КР'!S48=$S$4,1,0)","v":0},{"$f":"IF('Ввод КР'!T48=$T$4,1,0)","v":0},{"$f":"IF('Ввод КР'!U48=$U$4,1,0)","v":0},{"$f":"IF('Ввод КР'!V48=$V$4,1,0)","v":0},{"$f":"IF('Ввод КР'!W48=$W$4,1,0)","v":0},{"$f":"IF('Ввод КР'!X48=$X$4,1,0)","v":0},{"$f":"IF('Ввод КР'!Y48=$Y$4,1,0)","v":0},{"$f":"IF('Ввод КР'!Z48=$Z$4,1,0)","v":0},{"$f":"IF('Ввод КР'!AA48=$AA$4,1,0)","v":0},{"$f":"IF('Результаты КР'!$J45=1,1,0)","v":0},{"$f":"IF('Результаты КР'!$J45=2,1,0)","v":0},{"$f":"IF('Результаты КР'!$J45=3,1,0)","v":0}]
[40,{"$f":"IF('Ввод КР'!B49>0,1,0)","v":0},{"$f":"IF('Ввод КР'!C49=$C$4,1,0)","v":0},{"$f":"IF('Ввод КР'!D49=$D$4,1,0)","v":0},{"$f":"IF('Ввод КР'!E49=$E$4,1,0)","v":0},{"$f":"IF('Ввод КР'!F49=$F$4,1,0)","v":0},{"$f":"IF('Ввод КР'!G49=$G$4,1,0)","v":0},{"$f":"IF('Ввод КР'!H49=$H$4,1,0)","v":0},{"$f":"IF('Ввод КР'!I49=$I$4,1,0)","v":0},{"$f":"IF('Ввод КР'!J49=$J$4,1,0)","v":0},{"$f":"IF('Ввод КР'!K49=$K$4,1,0)","v":0},{"$f":"IF('Ввод КР'!L49=$L$4,1,0)","v":0},{"$f":"IF('Ввод КР'!M49=$M$4,1,0)","v":0},{"$f":"IF('Ввод КР'!N49=$N$4,1,0)","v":0},{"$f":"IF('Ввод КР'!O49=$O$4,1,0)","v":0},{"$f":"IF('Ввод КР'!P49=$P$4,1,0)","v":0},{"$f":"IF('Ввод КР'!Q49=$Q$4,1,0)","v":0},{"$f":"IF('Ввод КР'!R49=$R$4,1,0)","v":0},{"$f":"IF('Ввод КР'!S49=$S$4,1,0)","v":0},{"$f":"IF('Ввод КР'!T49=$T$4,1,0)","v":0},{"$f":"IF('Ввод КР'!U49=$U$4,1,0)","v":0},{"$f":"IF('Ввод КР'!V49=$V$4,1,0)","v":0},{"$f":"IF('Ввод КР'!W49=$W$4,1,0)","v":0},{"$f":"IF('Ввод КР'!X49=$X$4,1,0)","v":0},{"$f":"IF('Ввод КР'!Y49=$Y$4,1,0)","v":0},{"$f":"IF('Ввод КР'!Z49=$Z$4,1,0)","v":0},{"$f":"IF('Ввод КР'!AA49=$AA$4,1,0)","v":0},{"$f":"IF('Результаты КР'!$J46=1,1,0)","v":0},{"$f":"IF('Результаты КР'!$J46=2,1,0)","v":0},{"$f":"IF('Результаты КР'!$J46=3,1,0)","v":0}]
["Количество участников",{"$f":"SUM(B5:B44)","v":11},{"$f":"IF($B$45>0,SUM(C5:C44)/$B$45*100,0)","v":90.909090909090907},{"$f":"IF($B$45>0,SUM(D5:D44)/$B$45*100,0)","v":100},{"$f":"IF($B$45>0,SUM(E5:E44)/$B$45*100,0)","v":100},100,100,81.818181818181827,100,90.909090909090907,100,100,54.54545454545454,90.909090909090907,72.727272727272734,72.727272727272734,100,72.727272727272734,90.909090909090907,72.727272727272734,100,63.636363636363633,36.363636363636367,18.181818181818183,0,63.636363636363633,90.909090909090907,0,36.363636363636367,63.636363636363633,{"$f":"(K46+P46)/AE4*100","v":86.36363636363636},{"$f":"(E46+G46+X46)/AF4*100","v":72.72727272727272},{"$f":"(M46+Z46)/AG4*100","v":59.090909090909079},{"$f":"'Ввод ГП'!L12","v":100},{"$f":"(C46+AA46)/AI4*100","v":90.909090909090907},{"$f":"(D46+N46+O46+X46)/AJ4*100","v":76.363636363636374},{"$f":"(C46+AA46)/AK4*100","v":90.909090909090907},{"$f":"J46/AL4*100","v":90.909090909090907},{"$f":"(C46+F46+K46)/AM4*100","v":96.969696969696969},{"$f":"(D46+L46+R46+S46+V46+W46)/AN4*100","v":76.623376623376629},{"$f":"AA46/AO4*100","v":90.909090909090907},{"$f":"('Ввод ГП'!K8+'Ввод ГП'!K9)/Справляемость_КР!AP4*100","v":91.666666666666657},{"$f":"'Ввод ГП'!L13","v":83.333333333333343},{"$f":"(F46+L46+R46+V46)/AR4*100","v":84.090909090909093},{"$f":"(H46+I46+S46+Y46)/AS4*100","v":54.545454545454554},{"$f":"(Q46+U46+W46+Y46)/AT4*100","v":61.818181818181813}]
[null,null,{"$f":"SUM('Ввод КР'!C10:C49)/$B$45","v":0.90909090909090906},{"$f":"SUM('Ввод КР'!D10:D49)/$B$45","v":1},{"$f":"SUM('Ввод КР'!E10:E49)/$B$45","v":1},{"$f":"SUM('Ввод КР'!F10:F49)/$B$45","v":1},{"$f":"SUM('Ввод КР'!G10:G49)/$B$45","v":1},{"$f":"SUM('Ввод КР'!H10:H49)/$B$45","v":0.81818181818181823},{"$f":"SUM('Ввод КР'!I10:I49)/$B$45","v":1},{"$f":"SUM('Ввод КР'!J10:J49)/$B$45","v":0.90909090909090906},{"$f":"SUM('Ввод КР'!K10:K49)/$B$45","v":1},{"$f":"SUM('Ввод КР'!L10:L49)/$B$45","v":1},{"$f":"SUM('Ввод КР'!M10:M49)/$B$45","v":0.54545454545454541},{"$f":"SUM('Ввод КР'!N10:N49)/$B$45","v":0.90909090909090906},{"$f":"SUM('Ввод КР'!O10:O49)/$B$45","v":1.7272727272727273},{"$f":"SUM('Ввод КР'!P10:P49)/$B$45","v":0.72727272727272729},{"$f":"SUM('Ввод КР'!Q10:Q49)/$B$45","v":1},{"$f":"SUM('Ввод КР'!R10:R49)/$B$45","v":0.72727272727272729},{"$f":"SUM('Ввод КР'!S10:S49)/$B$45","v":0.90909090909090906},{"$f":"SUM('Ввод КР'!T10:T49)/$B$45","v":0.72727272727272729},{"$f":"SUM('Ввод КР'!U10:U49)/$B$45","v":1},{"$f":"SUM('Ввод КР'!V10:V49)/$B$45","v":0.63636363636363635},{"$f":"SUM('Ввод КР'!W10:W49)/$B$45","v":1.0909090909090908},{"$f":"SUM('Ввод КР'!X10:X49)/$B$45","v":0.18181818181818182},{"$f":"SUM('Ввод КР'!Y10:Y49)/$B$45","v":0},{"$f":"SUM('Ввод КР'!Z10:Z49)/$B$45","v":0.63636363636363635},{"$f":"SUM('Ввод КР'!AA10:AA49)/$B$45","v":0.90909090909090906},{"$f":"SUM('Ввод КР'!AB10:AB49)/$B$45","v":0},{"$f":"SUM('Ввод КР'!AC10:AC49)/$B$45","v":0},{"$f":"SUM('Ввод КР'!AD10:AD49)/$B$45","v":0}]
[]
[null,null,null,null,null,null,null,null,null,null,null,null,null,null,null,null,null,null,null,null,null,null,null,null,null,null,null,null,null,null,"Данные для диаграммы по освоению компетенций:"]
[null,{"$f":"CONCATENATE('Ввод КР'!C3,\", \",'Ввод КР'!L3,'Ввод КР'!M3,\" класс, \",'Ввод КР'!T3)","v":"МОУ Кубринская СОШ, 2 класс, 22.04.2014"},null,null,null,null,null,null,null,null,null,null,null,null,null,null,null,null,null,null,null,null,null,null,null,null,null,null,null,null,1,2,10,14,15,16,6,8,3,4,5,7,9,11,12,13]
[null,null,null,null,null,null,null,null,null,null,null,null,null,null,null,null,null,null,null,null,null,null,null,null,null,null,null,null,null,null,{"$f":"AE45","v":86.36363636363636},{"$f":"AF45","v":72.72727272727272},{"$f":"AN45","v":76.623376623376629},{"$f":"AR45","v":84.090909090909093},{"$f":"AS45","v":54.545454545454554},{"$f":"AT45","v":61.818181818181813},{"$f":"AJ45","v":76.363636363636374},{"$f":"AL45","v":90.909090909090907},{"$f":"AG45","v":59.090909090909079},{"$f":"AH45","v":100},{"$f":"AI45","v":90.909090909090907},{"$f":"AK45","v":90.909090909090907},{"$f":"AM45","v":96.969696969696969},{"$f":"AO45","v":90.909090909090907},{"$f":"AP45","v":91.666666666666657},{"$f":"AQ45","v":83.333333333333343}]

{"sheet":"Ввод ГП","index":6,"n_rows":25,"n_cols":12,"rows_kept":25,"cut":false,"hidden":false,"merged":[[0,0,0,9],[2,9,2,10],[2,2,2,5],[10,0,10,1],[5,8,6,8],[5,9,6,9],[5,4,6,4],[5,10,6,10],[5,2,6,2],[5,3,6,3],[5,11,6,11],[5,7,6,7],[14,0,14,1],[15,0,15,1],[5,5,6,5],[5,6,6,6],[13,0,13,1],[4,0,6,0],[4,1,6,1],[4,2,4,11]]}
["Сводная  таблица успешности работы в группах",null,null,null,null,null,null,null,null,null,null,"Таблица 3"]
[]
[null,"Наименование ОУ",{"$f":"'Ввод КР'!C3:I3","v":"МОУ Кубринская СОШ"},null,null,null,"Класс",2,{"$f":"'Ввод КР'!M3","v":0},"Количество групп:",null,2]
[]
["№ п/п","Наименование метапредметного результата","Количество баллов"]
[null,null,"1 группа","2 группа","3 группа","4 группа","5 группа","6 группа","7 группа","8 группа","Среднее для класса","Кдостижений"]
[]
["1.","Принятие цели групповой работы",3,3,null,null,null,null,null,null,{"$f":"IF($L$3>0,SUM(C8:J8)/$L$3,0)","v":3},{"$f":"K8/3*100","v":100}]
["2.","Распределение ролей в группе",3,2,null,null,null,null,null,null,2.5,{"$f":"K9/3*100","v":83.333333333333343}]
["3.","Лидерство в группе",3,2,null,null,null,null,null,null,2.5,{"$f":"K10/3*100","v":83.333333333333343}]
["Всего  по регулятивным умениям",null,{"$f":"SUM(C8:C10)","v":9},{"$f":"SUM(D8:D10)","v":7},0,0,0,0,0,0,8,{"$f":"K11/9*100","v":88.888888888888886}]
["4.","Эффективность коммуникаций",3,3,null,null,null,null,null,null,3,{"$f":"K12/3*100","v":100}]
["5.","Возникновение конфликтов в группе",3,2,null,null,null,null,null,null,2.5,{"$f":"K13/3*100","v":83.333333333333343}]
["Всего  по коммуникативным умениям",null,{"$f":"SUM(C12:C13)","v":6},{"$f":"SUM(D12:D13)","v":5},0,0,0,0,0,0,5.5,{"$f":"K14/6*100","v":91.666666666666657}]
["ИТОГО ЗА ВСЮ РАБОТУ, БАЛЛЫ ",null,{"$f":"C11+C14","v":15},{"$f":"D11+D14","v":12},0,0,0,0,0,0,13.5,{"$f":"K15/15*100","v":90}]
["УСПЕШНОСТЬ ВЫПОЛНЕНИЯ ГРУППОВОЙ РАБОТЫ,%",null,{"$f":"C15/15*100","v":100},80,0,0,0,0,0,0,90]
[]
[]
[]
[]
[null,"Принятие цели групповой работы",{"$f":"L8","v":100}]
[null,"Распределение ролей в группе",{"$f":"L9","v":83.333333333333343}]
[null,"Лидерство в группе",{"$f":"L10","v":83.333333333333343}]
[null,"Эффективность коммуникаций",{"$f":"L12","v":100}]
[null,"Возникновение конфликтов в группе",{"$f":"L13","v":83.333333333333343}]